BEGIN:VCALENDAR
VERSION:2.0
PRODID:-//Tufts Hillel - ECPv6.15.20//NONSGML v1.0//EN
CALSCALE:GREGORIAN
METHOD:PUBLISH
X-WR-CALNAME:Tufts Hillel
X-ORIGINAL-URL:https://tuftshillel.org
X-WR-CALDESC:Events for Tufts Hillel
REFRESH-INTERVAL;VALUE=DURATION:PT1H
X-Robots-Tag:noindex
X-PUBLISHED-TTL:PT1H
BEGIN:VTIMEZONE
TZID:America/New_York
BEGIN:DAYLIGHT
TZOFFSETFROM:-0500
TZOFFSETTO:-0400
TZNAME:EDT
DTSTART:20230312T070000
END:DAYLIGHT
BEGIN:STANDARD
TZOFFSETFROM:-0400
TZOFFSETTO:-0500
TZNAME:EST
DTSTART:20231105T060000
END:STANDARD
BEGIN:DAYLIGHT
TZOFFSETFROM:-0500
TZOFFSETTO:-0400
TZNAME:EDT
DTSTART:20240310T070000
END:DAYLIGHT
BEGIN:STANDARD
TZOFFSETFROM:-0400
TZOFFSETTO:-0500
TZNAME:EST
DTSTART:20241103T060000
END:STANDARD
BEGIN:DAYLIGHT
TZOFFSETFROM:-0500
TZOFFSETTO:-0400
TZNAME:EDT
DTSTART:20250309T070000
END:DAYLIGHT
BEGIN:STANDARD
TZOFFSETFROM:-0400
TZOFFSETTO:-0500
TZNAME:EST
DTSTART:20251102T060000
END:STANDARD
END:VTIMEZONE
BEGIN:VEVENT
DTSTART;TZID=America/New_York:20241109T120000
DTEND;TZID=America/New_York:20241109T133000
DTSTAMP:20260422T103752
CREATED:20240827T150526Z
LAST-MODIFIED:20241120T140616Z
UID:10002284-1731153600-1731159000@tuftshillel.org
SUMMARY:Shabbat Lunch at Hillel
DESCRIPTION:Join Tufts Hillel on Saturday for Shabbat lunch! No need to pre-register – just show up! All are welcome\, we hope to see you there!
URL:https://tuftshillel.org/event/shabbat-lunch-at-hillel-5/2024-11-09/
CATEGORIES:Shabbat
ATTACH;FMTTYPE=image/png:https://tuftshillel.org/wp-content/uploads/2024/08/2023_12_2_ShabbatLunchAtHillel-1.png
END:VEVENT
BEGIN:VEVENT
DTSTART;TZID=America/New_York:20241109T103000
DTEND;TZID=America/New_York:20241109T113000
DTSTAMP:20260422T103752
CREATED:20241105T124835Z
LAST-MODIFIED:20241109T153512Z
UID:10002384-1731148200-1731151800@tuftshillel.org
SUMMARY:A Conversation with Bernard-Henri Lévy
DESCRIPTION:Students\, join us for an intimate conversation with philosopher and public intellectual Bernard-Henri Lévy\, as he discusses his new book\, Israel Alone\, and his perspective on the Israel-Hamas war. Breakfast will be served!
URL:https://tuftshillel.org/event/a-conversation-with-bernard-henri-levy/
CATEGORIES:Israel
ATTACH;FMTTYPE=image/png:https://tuftshillel.org/wp-content/uploads/2024/11/2024_11_04_AConversationWithBernardHenriLevy_Landscape.png
END:VEVENT
BEGIN:VEVENT
DTSTART;TZID=America/New_York:20241108T180000
DTEND;TZID=America/New_York:20241108T203000
DTSTAMP:20260422T103752
CREATED:20241107T195320Z
LAST-MODIFIED:20241107T195414Z
UID:10002270-1731088800-1731097800@tuftshillel.org
SUMMARY:Wellness Shabbat
DESCRIPTION:Services and Dinner\n\n\n\n\n\nWe’re a large way through the semester\, and with elections and midterms\, it’s been a stressful week! Come join Tufts Hillel for a special Wellness Shabbat!We’ll have fidget toys and special activities to destress and enjoy! \n\n\n\n To help us accommodate you for dinner please sign up by Wednesday at 10:00am via sms/text: Text HILLEL TO 617 420 7411 \n\n\n\nShabbat dinner is provided compliments of Hillel. If you are on an unlimited meal plan\, or have the resources to do so\, please allow us to subsidize your meal by using a meal swipe. \n\n\n\nSchedule \n\n\n\n5:00pm Shabbat Zen Zone: friendship bracelets\, coloring books\, face masks\, nail polish\, and more \n\n\n\n6:00pm Candle Lighting & Services \n\n\n\n7:00pm Kosher Dinner Vegetarian and meat options
URL:https://tuftshillel.org/event/shabbat-friday-night-39/
CATEGORIES:Shabbat
ATTACH;FMTTYPE=image/png:https://tuftshillel.org/wp-content/uploads/2024/08/2024_11_08_WellnessShabbat_Landscape-1.png
END:VEVENT
BEGIN:VEVENT
DTSTART;TZID=America/New_York:20241108T100000
DTEND;TZID=America/New_York:20241108T130000
DTSTAMP:20260422T103752
CREATED:20240826T170116Z
LAST-MODIFIED:20240826T170120Z
UID:10002230-1731060000-1731070800@tuftshillel.org
SUMMARY:Challah for Hunger – Challah Sale
DESCRIPTION:Are you hungry? If so\, stop by the Campus center to buy delicious Challahs! The current flavors are Chocolate Chip\, Cinnamon Sugar\, Everything Bagel\, and Plain. 100% of the proceeds go to Family Table\, one of the largest Jewish Food banks in the Greater Boston Area.
URL:https://tuftshillel.org/event/challah-for-hunger-challah-sale-3/2024-11-08/
CATEGORIES:Social Justice
ATTACH;FMTTYPE=image/png:https://tuftshillel.org/wp-content/uploads/2024/08/Challah-for-Hunger-Friday-Landscape.png
END:VEVENT
BEGIN:VEVENT
DTSTART;TZID=America/New_York:20241108T100000
DTEND;TZID=America/New_York:20241108T110000
DTSTAMP:20260422T103752
CREATED:20240912T201705Z
LAST-MODIFIED:20241120T140841Z
UID:10002348-1731060000-1731063600@tuftshillel.org
SUMMARY:Weekly Talmud Chaburah with Rabbi Brawer
DESCRIPTION:Join Rabbi Brawer Friday mornings for Talmud study. This opportunity is for those who have studied Talmud previously and want to develop their Talmud study skills. We will be studying select passages of Agadah. \nCoffee & Cake served! \nFor more information contact Naftali\, Naftali.Brawer@tufts.edu
URL:https://tuftshillel.org/event/weekly-talmud-chaburah-with-rabbi-brawer-2/2024-11-08/
LOCATION:Tufts Hillel\, 220 Packard Avenue\, Medford\, MA\, 02155\, United States
CATEGORIES:Jewish Learning
ATTACH;FMTTYPE=image/png:https://tuftshillel.org/wp-content/uploads/2022/08/Weekly-Talmud-Chaburah-Rabbi-Naftali-Brawer-1.png
ORGANIZER;CN="Rabbi Brawer":MAILTO:naftali.brawer@tufts.edu
END:VEVENT
BEGIN:VEVENT
DTSTART;TZID=America/New_York:20241107T150000
DTEND;TZID=America/New_York:20241107T210000
DTSTAMP:20260422T103752
CREATED:20240826T165107Z
LAST-MODIFIED:20240826T165113Z
UID:10002224-1730991600-1731013200@tuftshillel.org
SUMMARY:Challah For Hunger
DESCRIPTION:Challah for Hunger is a group dedicated to doing Tzedakah (charity) through baking and selling Challahs! The current flavors are Chocolate Chip\, Cinnamon Sugar\, Everything Bagel\, and Plain. 100% of the proceeds go to Family Table\, one of the largest Jewish Food banks in the Greater Boston Area. \n\n\n\nDough 3-4PM \n\n\n\nBraiding 5-6PM \n\n\n\nBaking 7-9PM \n\n\n\nJoin us to bake\, make new friends\, and make a difference. \n\n\n\nSign Up!
URL:https://tuftshillel.org/event/challah-for-hunger-5/2024-11-07/
CATEGORIES:Social Justice
ATTACH;FMTTYPE=image/png:https://tuftshillel.org/wp-content/uploads/2024/08/2024_08_23_ChallahForHungerSchedule_Landscape.png
END:VEVENT
BEGIN:VEVENT
DTSTART;TZID=America/New_York:20241106T120000
DTEND;TZID=America/New_York:20241106T131500
DTSTAMP:20260422T103752
CREATED:20241028T164127Z
LAST-MODIFIED:20241028T164130Z
UID:10002380-1730894400-1730898900@tuftshillel.org
SUMMARY:Elections & Eats: A Community Gathering
DESCRIPTION:Feeling excited that you just voted in your first presidential election? Feeling stressed about election results? However you’re feeling\, come hang out at Hillel after Election Day for bagels\, snacks\, and company.
URL:https://tuftshillel.org/event/elections-eats-a-community-gathering/
CATEGORIES:Be Social (Social Program)
ATTACH;FMTTYPE=image/png:https://tuftshillel.org/wp-content/uploads/2024/10/2024_10_28_ElectionAndEatsCommunityGathering_Landscape.png
END:VEVENT
BEGIN:VEVENT
DTSTART;TZID=America/New_York:20241105T173000
DTEND;TZID=America/New_York:20241105T183000
DTSTAMP:20260422T103752
CREATED:20241006T004350Z
LAST-MODIFIED:20241205T185401Z
UID:10002242-1730827800-1730831400@tuftshillel.org
SUMMARY:Community Dinner
DESCRIPTION:Find community\, make connections with your peers\, and eat dinner at Hillel. Join us for a kosher meat dinner with a vegetarian option.  \n\n\n\nFood. People. Comfort. \n\n\n\nFor the most up to date info please see our social media \n\n\n\ninstagram.com/tuftshillel \n\n\n\nfacebook.com/tuftshillel
URL:https://tuftshillel.org/event/community-dinner-6/2024-11-05/
CATEGORIES:Be Social (Social Program),Israel
ATTACH;FMTTYPE=image/png:https://tuftshillel.org/wp-content/uploads/2024/09/2024_09_25_CommunityDinner_Landscape.png
END:VEVENT
BEGIN:VEVENT
DTSTART;TZID=America/New_York:20241102T120000
DTEND;TZID=America/New_York:20241102T133000
DTSTAMP:20260422T103752
CREATED:20240827T150526Z
LAST-MODIFIED:20241120T140616Z
UID:10002283-1730548800-1730554200@tuftshillel.org
SUMMARY:Shabbat Lunch at Hillel
DESCRIPTION:Join Tufts Hillel on Saturday for Shabbat lunch! No need to pre-register – just show up! All are welcome\, we hope to see you there!
URL:https://tuftshillel.org/event/shabbat-lunch-at-hillel-5/2024-11-02/
CATEGORIES:Shabbat
ATTACH;FMTTYPE=image/png:https://tuftshillel.org/wp-content/uploads/2024/08/2023_12_2_ShabbatLunchAtHillel-1.png
END:VEVENT
BEGIN:VEVENT
DTSTART;TZID=America/New_York:20241101T190000
DTEND;TZID=America/New_York:20241101T190000
DTSTAMP:20260422T103752
CREATED:20241028T163823Z
LAST-MODIFIED:20241028T163826Z
UID:10002379-1730487600-1730487600@tuftshillel.org
SUMMARY:World Series Shabbat
DESCRIPTION:It’s the World Series\, so we’re celebrating with WORLD SERIES SHABBAT! Come join us for food\, friends\, and fun at Tufts Hillel. Candle Lighting and services at 6pm\, World Series Shabbat Dinner at 7pm. We can’t wait to see you there!
URL:https://tuftshillel.org/event/world-series-shabbat/
CATEGORIES:Shabbat
ATTACH;FMTTYPE=image/png:https://tuftshillel.org/wp-content/uploads/2024/10/2024_10_28_WorldSeriesShabbat_Landscape.png
END:VEVENT
BEGIN:VEVENT
DTSTART;TZID=America/New_York:20241101T180000
DTEND;TZID=America/New_York:20241101T203000
DTSTAMP:20260422T103752
CREATED:20240814T165508Z
LAST-MODIFIED:20241120T140532Z
UID:10002269-1730484000-1730493000@tuftshillel.org
SUMMARY:Shabbat Friday Night
DESCRIPTION:Services and Dinner\n\n\n\n\n\nJoin us for Shabbat services and dinner at Hillel! To help us accommodate you for dinner please sign up by Wednesday at 10:00am via sms/text: Text HILLEL TO 617 420 7411 \n\n\n\nShabbat dinner is provided compliments of Hillel. If you are on an unlimited meal plan\, or have the resources to do so\, please allow us to subsidize your meal by using a meal swipe. \n\n\n\nSchedule \n\n\n\n6:00pm Candle Lighting & Services \n\n\n\n7:00pm Kosher Dinner Vegetarian and meat options
URL:https://tuftshillel.org/event/shabbat-friday-night-29/2024-11-01/
CATEGORIES:Shabbat
ATTACH;FMTTYPE=image/png:https://tuftshillel.org/wp-content/uploads/2023/08/Shabbat-Dinner-Sign-up.png
END:VEVENT
BEGIN:VEVENT
DTSTART;TZID=America/New_York:20241101T100000
DTEND;TZID=America/New_York:20241101T110000
DTSTAMP:20260422T103752
CREATED:20240912T201705Z
LAST-MODIFIED:20241120T140841Z
UID:10002347-1730455200-1730458800@tuftshillel.org
SUMMARY:Weekly Talmud Chaburah with Rabbi Brawer
DESCRIPTION:Join Rabbi Brawer Friday mornings for Talmud study. This opportunity is for those who have studied Talmud previously and want to develop their Talmud study skills. We will be studying select passages of Agadah. \nCoffee & Cake served! \nFor more information contact Naftali\, Naftali.Brawer@tufts.edu
URL:https://tuftshillel.org/event/weekly-talmud-chaburah-with-rabbi-brawer-2/2024-11-01/
LOCATION:Tufts Hillel\, 220 Packard Avenue\, Medford\, MA\, 02155\, United States
CATEGORIES:Jewish Learning
ATTACH;FMTTYPE=image/png:https://tuftshillel.org/wp-content/uploads/2022/08/Weekly-Talmud-Chaburah-Rabbi-Naftali-Brawer-1.png
ORGANIZER;CN="Rabbi Brawer":MAILTO:naftali.brawer@tufts.edu
END:VEVENT
BEGIN:VEVENT
DTSTART;TZID=America/New_York:20241029T183000
DTEND;TZID=America/New_York:20241029T203000
DTSTAMP:20260422T103752
CREATED:20240930T174853Z
LAST-MODIFIED:20241026T141542Z
UID:10002363-1730226600-1730233800@tuftshillel.org
SUMMARY:Apple Crisp Bake Event
DESCRIPTION:Come join us as we bake yummy apple crisp from the apples we pick at apple picking! Hope to see you there.
URL:https://tuftshillel.org/event/apple-crisp-bake-event/
CATEGORIES:Be Social (Social Program)
ATTACH;FMTTYPE=image/png:https://tuftshillel.org/wp-content/uploads/2024/09/2024_09_30_AppleCrispBakeEvent-2.png
END:VEVENT
BEGIN:VEVENT
DTSTART;TZID=America/New_York:20241029T173000
DTEND;TZID=America/New_York:20241029T183000
DTSTAMP:20260422T103752
CREATED:20241006T004350Z
LAST-MODIFIED:20241205T185401Z
UID:10002241-1730223000-1730226600@tuftshillel.org
SUMMARY:Community Dinner
DESCRIPTION:Find community\, make connections with your peers\, and eat dinner at Hillel. Join us for a kosher meat dinner with a vegetarian option.  \n\n\n\nFood. People. Comfort. \n\n\n\nFor the most up to date info please see our social media \n\n\n\ninstagram.com/tuftshillel \n\n\n\nfacebook.com/tuftshillel
URL:https://tuftshillel.org/event/community-dinner-6/2024-10-29/
CATEGORIES:Be Social (Social Program),Israel
ATTACH;FMTTYPE=image/png:https://tuftshillel.org/wp-content/uploads/2024/09/2024_09_25_CommunityDinner_Landscape.png
END:VEVENT
BEGIN:VEVENT
DTSTART;TZID=America/New_York:20241027T130000
DTEND;TZID=America/New_York:20241027T170000
DTSTAMP:20260422T103752
CREATED:20241002T133100Z
LAST-MODIFIED:20241002T133103Z
UID:10002366-1730034000-1730048400@tuftshillel.org
SUMMARY:Apple Picking
DESCRIPTION:Escape the hustle and bustle and join us for a day of fun and fresh air at our annual Apple Picking Event! Enjoy the beautiful orchards\, where you can handpick delicious apples straight from the tree.  \n\n\n\nSign Up!
URL:https://tuftshillel.org/event/apple-picking/
CATEGORIES:Be Social (Social Program)
ATTACH;FMTTYPE=image/png:https://tuftshillel.org/wp-content/uploads/2024/10/2024_09_25_Apple-Picking_Landscape-2.png
END:VEVENT
BEGIN:VEVENT
DTSTART;TZID=America/New_York:20241026T120000
DTEND;TZID=America/New_York:20241026T133000
DTSTAMP:20260422T103752
CREATED:20240827T150526Z
LAST-MODIFIED:20241120T140616Z
UID:10002282-1729944000-1729949400@tuftshillel.org
SUMMARY:Shabbat Lunch at Hillel
DESCRIPTION:Join Tufts Hillel on Saturday for Shabbat lunch! No need to pre-register – just show up! All are welcome\, we hope to see you there!
URL:https://tuftshillel.org/event/shabbat-lunch-at-hillel-5/2024-10-26/
CATEGORIES:Shabbat
ATTACH;FMTTYPE=image/png:https://tuftshillel.org/wp-content/uploads/2024/08/2023_12_2_ShabbatLunchAtHillel-1.png
END:VEVENT
BEGIN:VEVENT
DTSTART;TZID=America/New_York:20241025T180000
DTEND;TZID=America/New_York:20241025T203000
DTSTAMP:20260422T103752
CREATED:20241021T145152Z
LAST-MODIFIED:20241023T142431Z
UID:10002268-1729879200-1729888200@tuftshillel.org
SUMMARY:Decades Shabbat
DESCRIPTION:Services and Dinner\n\n\n\n\n\nIt’s DECADES SHABBAT! Join us at Tufts Hillel for a special decades-themed Shabbat dinner. Come dressed as your favorite decade (or come as you are!) We can’t wait to see you there!  \n\n\n\nTo help us accommodate you for dinner please sign up by Wednesday at 10:00am via sms/text: Text HILLEL TO 617 420 7411 \n\n\n\nShabbat dinner is provided compliments of Hillel. If you are on an unlimited meal plan\, or have the resources to do so\, please allow us to subsidize your meal by using a meal swipe. \n\n\n\nSchedule \n\n\n\n6:00pm Candle Lighting & Services \n\n\n\n7:00pm Kosher Dinner Vegetarian and meat options
URL:https://tuftshillel.org/event/shabbat-friday-night-38/
CATEGORIES:Shabbat
ATTACH;FMTTYPE=image/png:https://tuftshillel.org/wp-content/uploads/2024/10/2024_10_21_DecadesShabbat_Landscape.png
END:VEVENT
BEGIN:VEVENT
DTSTART;TZID=America/New_York:20241025T110000
DTEND;TZID=America/New_York:20241025T120000
DTSTAMP:20260422T103752
CREATED:20241023T142505Z
LAST-MODIFIED:20241023T142512Z
UID:10002378-1729854000-1729857600@tuftshillel.org
SUMMARY:Simchat Torah Song Circle
DESCRIPTION:Join us to sing and pray together\, joining voices\, hearts\, and rhythms to create a sacred healing space. Learn and sing new melodies by queer Jewish musicians. Although this will not be a Torah service\, we will include some morning prayers! Whether you enjoy singing or want to listen\, everyone is welcome.
URL:https://tuftshillel.org/event/simchat-torah-song-circle/
CATEGORIES:Holidays
ATTACH;FMTTYPE=image/png:https://tuftshillel.org/wp-content/uploads/2024/10/2024_10_21_SimchatTorahSongCircle_Landscape.png
END:VEVENT
BEGIN:VEVENT
DTSTART;TZID=America/New_York:20241025T100000
DTEND;TZID=America/New_York:20241025T110000
DTSTAMP:20260422T103752
CREATED:20240912T201705Z
LAST-MODIFIED:20241120T140841Z
UID:10002346-1729850400-1729854000@tuftshillel.org
SUMMARY:Weekly Talmud Chaburah with Rabbi Brawer
DESCRIPTION:Join Rabbi Brawer Friday mornings for Talmud study. This opportunity is for those who have studied Talmud previously and want to develop their Talmud study skills. We will be studying select passages of Agadah. \nCoffee & Cake served! \nFor more information contact Naftali\, Naftali.Brawer@tufts.edu
URL:https://tuftshillel.org/event/weekly-talmud-chaburah-with-rabbi-brawer-2/2024-10-25/
LOCATION:Tufts Hillel\, 220 Packard Avenue\, Medford\, MA\, 02155\, United States
CATEGORIES:Jewish Learning
ATTACH;FMTTYPE=image/png:https://tuftshillel.org/wp-content/uploads/2022/08/Weekly-Talmud-Chaburah-Rabbi-Naftali-Brawer-1.png
ORGANIZER;CN="Rabbi Brawer":MAILTO:naftali.brawer@tufts.edu
END:VEVENT
BEGIN:VEVENT
DTSTART;TZID=America/New_York:20241024T190000
DTEND;TZID=America/New_York:20241024T190000
DTSTAMP:20260422T103752
CREATED:20241015T165432Z
LAST-MODIFIED:20241015T165441Z
UID:10002375-1729796400-1729796400@tuftshillel.org
SUMMARY:Simchat Torah
DESCRIPTION:Join Tufts Hillel for a SIMCHAT TORAH CELEBRATION\, on Thursday\, October 24th! We will be joining together for the holiday of Simchat Torah\, which celebrates the annual conclusion of reading the Torah. There will be singing\, dancing with the Torah\, and lots of food – we hope to see you there! All are welcome!
URL:https://tuftshillel.org/event/simchat-torah-2/
CATEGORIES:High Holidays,Holidays
ATTACH;FMTTYPE=image/png:https://tuftshillel.org/wp-content/uploads/2023/10/2023_09_27_SimchatTorah_Landscape.png
END:VEVENT
BEGIN:VEVENT
DTSTART;TZID=America/New_York:20241024T120000
DTEND;TZID=America/New_York:20241024T130000
DTSTAMP:20260422T103752
CREATED:20241015T193431Z
LAST-MODIFIED:20241015T193506Z
UID:10002372-1729771200-1729774800@tuftshillel.org
SUMMARY:Comedy Lunch and Learn: Can you build a Sukkah on an elephant?
DESCRIPTION:Can you use a person as a wall of a sukkah? Can you build a sukkah on a camel’s back? Can you build a sukkah on an elephant?! Come to this lunch and learn for comedy\, Jewish learning\, and free food!
URL:https://tuftshillel.org/event/comedy-lunch-and-learn-can-you-build-a-sukkah-on-an-elephant/
ATTACH;FMTTYPE=image/png:https://tuftshillel.org/wp-content/uploads/2024/10/2024_10_11_ComedyLunchAndLearnCanYouBuildASukkahOnAnElephant_Landscape.png
END:VEVENT
BEGIN:VEVENT
DTSTART;TZID=America/New_York:20241022T173000
DTEND;TZID=America/New_York:20241022T183000
DTSTAMP:20260422T103752
CREATED:20241016T191446Z
LAST-MODIFIED:20241016T191451Z
UID:10002240-1729618200-1729621800@tuftshillel.org
SUMMARY:Community Dinner
DESCRIPTION:Find community\, make connections with your peers\, and eat dinner at Hillel. Join us for a kosher meat dinner with a vegetarian option.  \n\n\n\nFood. People. Comfort. \n\n\n\nFor the most up to date info please see our social media \n\n\n\ninstagram.com/tuftshillel \n\n\n\nfacebook.com/tuftshillel
URL:https://tuftshillel.org/event/community-dinner-7/
CATEGORIES:Be Social (Social Program),Israel
ATTACH;FMTTYPE=image/png:https://tuftshillel.org/wp-content/uploads/2024/10/2024_10_15-Community-Dinner-in-the-Sukkah-1x1-4.png
END:VEVENT
BEGIN:VEVENT
DTSTART;TZID=America/New_York:20241022T100000
DTEND;TZID=America/New_York:20241022T130000
DTSTAMP:20260422T103752
CREATED:20240826T170116Z
LAST-MODIFIED:20240826T170120Z
UID:10002229-1729591200-1729602000@tuftshillel.org
SUMMARY:Challah for Hunger – Challah Sale
DESCRIPTION:Are you hungry? If so\, stop by the Campus center to buy delicious Challahs! The current flavors are Chocolate Chip\, Cinnamon Sugar\, Everything Bagel\, and Plain. 100% of the proceeds go to Family Table\, one of the largest Jewish Food banks in the Greater Boston Area.
URL:https://tuftshillel.org/event/challah-for-hunger-challah-sale-3/2024-10-22/
CATEGORIES:Social Justice
ATTACH;FMTTYPE=image/png:https://tuftshillel.org/wp-content/uploads/2024/08/Challah-for-Hunger-Friday-Landscape.png
END:VEVENT
BEGIN:VEVENT
DTSTART;TZID=America/New_York:20241021T203000
DTEND;TZID=America/New_York:20241021T213000
DTSTAMP:20260422T103752
CREATED:20241007T205740Z
LAST-MODIFIED:20241007T205746Z
UID:10002368-1729542600-1729546200@tuftshillel.org
SUMMARY:Care Package Assembly for Rosie's Place
DESCRIPTION:Join us for Care Package Assembly as we assemble care packages for the women at Rosie’s Place!  \n\n\n\nWe’ll put together essential supplies like toiletries\, books\, and other necessities to help provide comfort and support. Your participation will make a meaningful impact—let’s come together to make a difference! Can’t wait to see you there.
URL:https://tuftshillel.org/event/care-package-assembly-for-rosies-place/
CATEGORIES:Holidays
ATTACH;FMTTYPE=image/png:https://tuftshillel.org/wp-content/uploads/2024/10/2024_10_07_CarePackageAssemblyForRosiesPlace_Landscape.png
END:VEVENT
BEGIN:VEVENT
DTSTART;TZID=America/New_York:20241021T150000
DTEND;TZID=America/New_York:20241021T210000
DTSTAMP:20260422T103752
CREATED:20241021T162623Z
LAST-MODIFIED:20241021T162628Z
UID:10002223-1729522800-1729544400@tuftshillel.org
SUMMARY:Challah For Hunger
DESCRIPTION:Challah for Hunger is a group dedicated to doing Tzedakah (charity) through baking and selling Challahs! The current flavors are Chocolate Chip\, Cinnamon Sugar\, Everything Bagel\, and Plain. 100% of the proceeds go to Family Table\, one of the largest Jewish Food banks in the Greater Boston Area. For this week only: join us for a special dinner in the Sukkah from 6 – 7pm\, while we let the dough rise. \n\n\n\nDough 3-4PM \n\n\n\nBraiding 5-6PM \n\n\n\nDinner 6-7PM \n\n\n\nBaking 7-9PM \n\n\n\nJoin us to bake\, make new friends\, and make a difference. \n\n\n\nSign Up!
URL:https://tuftshillel.org/event/challah-for-hunger-10/
CATEGORIES:Social Justice
ATTACH;FMTTYPE=image/png:https://tuftshillel.org/wp-content/uploads/2024/08/2024_08_23_ChallahForHungerSchedule_Landscape.png
END:VEVENT
BEGIN:VEVENT
DTSTART;TZID=America/New_York:20241020T140000
DTEND;TZID=America/New_York:20241020T150000
DTSTAMP:20260422T103752
CREATED:20241015T193927Z
LAST-MODIFIED:20241015T193930Z
UID:10002377-1729432800-1729436400@tuftshillel.org
SUMMARY:Master Chef: Sukkot Edition
DESCRIPTION:Want to put your master chef skills to the test? Join Tufts Hillel for Master Chef: SUKKOT EDITION! Come join us on Sunday\, 10/20 to build your best Sukkot in the Sukkah. All food ingredients will be provided. Feel free to come as a team or come on your own and join a group when you get there!
URL:https://tuftshillel.org/event/master-chef-sukkot-edition/
ATTACH;FMTTYPE=image/png:https://tuftshillel.org/wp-content/uploads/2024/10/2024_10_20-Master-Chef-Sukkot-Edition-Landscape.png
END:VEVENT
BEGIN:VEVENT
DTSTART;TZID=America/New_York:20241019T120000
DTEND;TZID=America/New_York:20241019T133000
DTSTAMP:20260422T103752
CREATED:20240827T150526Z
LAST-MODIFIED:20241120T140616Z
UID:10002281-1729339200-1729344600@tuftshillel.org
SUMMARY:Shabbat Lunch at Hillel
DESCRIPTION:Join Tufts Hillel on Saturday for Shabbat lunch! No need to pre-register – just show up! All are welcome\, we hope to see you there!
URL:https://tuftshillel.org/event/shabbat-lunch-at-hillel-5/2024-10-19/
CATEGORIES:Shabbat
ATTACH;FMTTYPE=image/png:https://tuftshillel.org/wp-content/uploads/2024/08/2023_12_2_ShabbatLunchAtHillel-1.png
END:VEVENT
BEGIN:VEVENT
DTSTART;TZID=America/New_York:20241018T164500
DTEND;TZID=America/New_York:20241019T130000
DTSTAMP:20260422T103752
CREATED:20240822T140850Z
LAST-MODIFIED:20241015T135033Z
UID:10002185-1729269900-1729342800@tuftshillel.org
SUMMARY:Parents and Family Weekend
DESCRIPTION:We look forward to welcoming you to Parents and Family Weekend at Tufts Hillel! \n\n\n\nLocation: All events are at Tufts Hillel | 220 Packard Avenue \n\n\n\nPlease register below for Friday Night Shabbat/Sukkot Dinner and Saturday Shabbat/Sukkot Lunch! \n\n\n\nFull Schedule of Events\n\n\n\nFriday\, October 18th\n\n\n\n4:45 – 5:30 PM : RECEPTION AND OPEN HOUSE AT TUFTS HILLEL  \n\n\n\nJoin parents\, students\, and staff for a pre-Shabbat reception and schmooze!  \n\n\n\n5:30 PM : COMMUNAL SHABBAT/SUKKOT CANDLE LIGHTING  \n\n\n\n6:00 – 7:00 PM : STUDENT-LED SHABBAT/SUKKOT SERVICES  \n\n\n\nPlease join us for student-led Reform and Conservative Shabbat/Sukkot services. \n\n\n\n7:00 PM : SHABBAT/SUKKOT DINNER – Please register below! \n\n\n\nShare the Hillel Shabbat/Sukkot experience with your entire family! Join us for a delicious kosher dinner (with a vegetarian option) following services. You are welcome for dinner\, services\, or both. \n\n\n\n			\n				\n			\n			\n		\n\n\nSaturday\, October 19th\n\n\n\n10:00 AM – 12:00 PM : STUDENT-LED SHABBAT/SUKKOT SERVICES \n\n\n\nCome join us for Conservative Shabbat/Sukkot morning services. \n\n\n\n12:00 – 1:00 PM : SHABBAT/SUKKOT LUNCH – Please register below! \n\n\n\n			\n				\n			\n			\n		\n\n\n\n\n\n\nPlease RSVP for both Friday night dinner & Saturday lunch below
URL:https://tuftshillel.org/event/parents-and-family-weekend-3/
ATTACH;FMTTYPE=image/png:https://tuftshillel.org/wp-content/uploads/2024/08/Parents-weekend-family-weekend-template-1-2.png
END:VEVENT
BEGIN:VEVENT
DTSTART;TZID=America/New_York:20241018T100000
DTEND;TZID=America/New_York:20241018T110000
DTSTAMP:20260422T103752
CREATED:20240912T201705Z
LAST-MODIFIED:20241120T140841Z
UID:10002345-1729245600-1729249200@tuftshillel.org
SUMMARY:Weekly Talmud Chaburah with Rabbi Brawer
DESCRIPTION:Join Rabbi Brawer Friday mornings for Talmud study. This opportunity is for those who have studied Talmud previously and want to develop their Talmud study skills. We will be studying select passages of Agadah. \nCoffee & Cake served! \nFor more information contact Naftali\, Naftali.Brawer@tufts.edu
URL:https://tuftshillel.org/event/weekly-talmud-chaburah-with-rabbi-brawer-2/2024-10-18/
LOCATION:Tufts Hillel\, 220 Packard Avenue\, Medford\, MA\, 02155\, United States
CATEGORIES:Jewish Learning
ATTACH;FMTTYPE=image/png:https://tuftshillel.org/wp-content/uploads/2022/08/Weekly-Talmud-Chaburah-Rabbi-Naftali-Brawer-1.png
ORGANIZER;CN="Rabbi Brawer":MAILTO:naftali.brawer@tufts.edu
END:VEVENT
BEGIN:VEVENT
DTSTART;TZID=America/New_York:20241017T190000
DTEND;TZID=America/New_York:20241017T190000
DTSTAMP:20260422T103752
CREATED:20241015T193744Z
LAST-MODIFIED:20241015T193746Z
UID:10002376-1729191600-1729191600@tuftshillel.org
SUMMARY:SNL: Sukkot Night Live
DESCRIPTION:Join Tufts Hillel for Sukkot dinner and SNL: Sukkot Night Live! As we’re bringing in the holiday of Sukkot\, we’ll have a night of food\, friends\, and comedy in the Sukkah. Can’t wait to see you there!
URL:https://tuftshillel.org/event/snl-sukkot-night-live/
CATEGORIES:High Holidays,Holidays
ATTACH;FMTTYPE=image/png:https://tuftshillel.org/wp-content/uploads/2024/10/2024_10_17-SUKKOT-NIGHT-LIVE-Landscape.png
END:VEVENT
END:VCALENDAR