BEGIN:VCALENDAR
VERSION:2.0
PRODID:-//Tufts Hillel - ECPv6.15.20//NONSGML v1.0//EN
CALSCALE:GREGORIAN
METHOD:PUBLISH
X-WR-CALNAME:Tufts Hillel
X-ORIGINAL-URL:https://tuftshillel.org
X-WR-CALDESC:Events for Tufts Hillel
REFRESH-INTERVAL;VALUE=DURATION:PT1H
X-Robots-Tag:noindex
X-PUBLISHED-TTL:PT1H
BEGIN:VTIMEZONE
TZID:America/New_York
BEGIN:DAYLIGHT
TZOFFSETFROM:-0500
TZOFFSETTO:-0400
TZNAME:EDT
DTSTART:20250309T070000
END:DAYLIGHT
BEGIN:STANDARD
TZOFFSETFROM:-0400
TZOFFSETTO:-0500
TZNAME:EST
DTSTART:20251102T060000
END:STANDARD
BEGIN:DAYLIGHT
TZOFFSETFROM:-0500
TZOFFSETTO:-0400
TZNAME:EDT
DTSTART:20260308T070000
END:DAYLIGHT
BEGIN:STANDARD
TZOFFSETFROM:-0400
TZOFFSETTO:-0500
TZNAME:EST
DTSTART:20261101T060000
END:STANDARD
BEGIN:DAYLIGHT
TZOFFSETFROM:-0500
TZOFFSETTO:-0400
TZNAME:EDT
DTSTART:20270314T070000
END:DAYLIGHT
BEGIN:STANDARD
TZOFFSETFROM:-0400
TZOFFSETTO:-0500
TZNAME:EST
DTSTART:20271107T060000
END:STANDARD
END:VTIMEZONE
BEGIN:VEVENT
DTSTART;TZID=America/New_York:20260428T173000
DTEND;TZID=America/New_York:20260428T183000
DTSTAMP:20260424T131057
CREATED:20260213T205500Z
LAST-MODIFIED:20260213T205638Z
UID:10002826-1777397400-1777401000@tuftshillel.org
SUMMARY:Community Dinner
DESCRIPTION:Join us for a free mid-week Kosher catered dinner! Come for the food\, stay for the people! Check the instagram on Tuesday morning for what’s being served. \n\n\n\nFood. People. Comfort. \n\n\n\nFor the most up to date info please see our social media \n\n\n\ninstagram.com/tuftshillel \n\n\n\nfacebook.com/tuftshillel
URL:https://tuftshillel.org/event/community-dinner-14/2026-04-28/
CATEGORIES:Be Social (Social Program),Israel
ATTACH;FMTTYPE=image/png:https://tuftshillel.org/wp-content/uploads/2026/02/2023_10_13-Community-Gatherings-3-2.png
END:VEVENT
BEGIN:VEVENT
DTSTART;TZID=America/New_York:20260505T173000
DTEND;TZID=America/New_York:20260505T183000
DTSTAMP:20260424T131057
CREATED:20260213T205500Z
LAST-MODIFIED:20260213T205638Z
UID:10002827-1778002200-1778005800@tuftshillel.org
SUMMARY:Community Dinner
DESCRIPTION:Join us for a free mid-week Kosher catered dinner! Come for the food\, stay for the people! Check the instagram on Tuesday morning for what’s being served. \n\n\n\nFood. People. Comfort. \n\n\n\nFor the most up to date info please see our social media \n\n\n\ninstagram.com/tuftshillel \n\n\n\nfacebook.com/tuftshillel
URL:https://tuftshillel.org/event/community-dinner-14/2026-05-05/
CATEGORIES:Be Social (Social Program),Israel
ATTACH;FMTTYPE=image/png:https://tuftshillel.org/wp-content/uploads/2026/02/2023_10_13-Community-Gatherings-3-2.png
END:VEVENT
BEGIN:VEVENT
DTSTART;TZID=America/New_York:20260512T173000
DTEND;TZID=America/New_York:20260512T183000
DTSTAMP:20260424T131057
CREATED:20260213T205500Z
LAST-MODIFIED:20260213T205638Z
UID:10002828-1778607000-1778610600@tuftshillel.org
SUMMARY:Community Dinner
DESCRIPTION:Join us for a free mid-week Kosher catered dinner! Come for the food\, stay for the people! Check the instagram on Tuesday morning for what’s being served. \n\n\n\nFood. People. Comfort. \n\n\n\nFor the most up to date info please see our social media \n\n\n\ninstagram.com/tuftshillel \n\n\n\nfacebook.com/tuftshillel
URL:https://tuftshillel.org/event/community-dinner-14/2026-05-12/
CATEGORIES:Be Social (Social Program),Israel
ATTACH;FMTTYPE=image/png:https://tuftshillel.org/wp-content/uploads/2026/02/2023_10_13-Community-Gatherings-3-2.png
END:VEVENT
BEGIN:VEVENT
DTSTART;TZID=America/New_York:20260519T173000
DTEND;TZID=America/New_York:20260519T183000
DTSTAMP:20260424T131057
CREATED:20260213T205500Z
LAST-MODIFIED:20260213T205638Z
UID:10002829-1779211800-1779215400@tuftshillel.org
SUMMARY:Community Dinner
DESCRIPTION:Join us for a free mid-week Kosher catered dinner! Come for the food\, stay for the people! Check the instagram on Tuesday morning for what’s being served. \n\n\n\nFood. People. Comfort. \n\n\n\nFor the most up to date info please see our social media \n\n\n\ninstagram.com/tuftshillel \n\n\n\nfacebook.com/tuftshillel
URL:https://tuftshillel.org/event/community-dinner-14/2026-05-19/
CATEGORIES:Be Social (Social Program),Israel
ATTACH;FMTTYPE=image/png:https://tuftshillel.org/wp-content/uploads/2026/02/2023_10_13-Community-Gatherings-3-2.png
END:VEVENT
BEGIN:VEVENT
DTSTART;TZID=America/New_York:20260526T173000
DTEND;TZID=America/New_York:20260526T183000
DTSTAMP:20260424T131057
CREATED:20260213T205500Z
LAST-MODIFIED:20260213T205638Z
UID:10002830-1779816600-1779820200@tuftshillel.org
SUMMARY:Community Dinner
DESCRIPTION:Join us for a free mid-week Kosher catered dinner! Come for the food\, stay for the people! Check the instagram on Tuesday morning for what’s being served. \n\n\n\nFood. People. Comfort. \n\n\n\nFor the most up to date info please see our social media \n\n\n\ninstagram.com/tuftshillel \n\n\n\nfacebook.com/tuftshillel
URL:https://tuftshillel.org/event/community-dinner-14/2026-05-26/
CATEGORIES:Be Social (Social Program),Israel
ATTACH;FMTTYPE=image/png:https://tuftshillel.org/wp-content/uploads/2026/02/2023_10_13-Community-Gatherings-3-2.png
END:VEVENT
BEGIN:VEVENT
DTSTART;TZID=America/New_York:20260602T173000
DTEND;TZID=America/New_York:20260602T183000
DTSTAMP:20260424T131057
CREATED:20260213T205500Z
LAST-MODIFIED:20260213T205638Z
UID:10002831-1780421400-1780425000@tuftshillel.org
SUMMARY:Community Dinner
DESCRIPTION:Join us for a free mid-week Kosher catered dinner! Come for the food\, stay for the people! Check the instagram on Tuesday morning for what’s being served. \n\n\n\nFood. People. Comfort. \n\n\n\nFor the most up to date info please see our social media \n\n\n\ninstagram.com/tuftshillel \n\n\n\nfacebook.com/tuftshillel
URL:https://tuftshillel.org/event/community-dinner-14/2026-06-02/
CATEGORIES:Be Social (Social Program),Israel
ATTACH;FMTTYPE=image/png:https://tuftshillel.org/wp-content/uploads/2026/02/2023_10_13-Community-Gatherings-3-2.png
END:VEVENT
BEGIN:VEVENT
DTSTART;TZID=America/New_York:20260609T173000
DTEND;TZID=America/New_York:20260609T183000
DTSTAMP:20260424T131057
CREATED:20260213T205500Z
LAST-MODIFIED:20260213T205638Z
UID:10002832-1781026200-1781029800@tuftshillel.org
SUMMARY:Community Dinner
DESCRIPTION:Join us for a free mid-week Kosher catered dinner! Come for the food\, stay for the people! Check the instagram on Tuesday morning for what’s being served. \n\n\n\nFood. People. Comfort. \n\n\n\nFor the most up to date info please see our social media \n\n\n\ninstagram.com/tuftshillel \n\n\n\nfacebook.com/tuftshillel
URL:https://tuftshillel.org/event/community-dinner-14/2026-06-09/
CATEGORIES:Be Social (Social Program),Israel
ATTACH;FMTTYPE=image/png:https://tuftshillel.org/wp-content/uploads/2026/02/2023_10_13-Community-Gatherings-3-2.png
END:VEVENT
BEGIN:VEVENT
DTSTART;TZID=America/New_York:20260616T173000
DTEND;TZID=America/New_York:20260616T183000
DTSTAMP:20260424T131057
CREATED:20260213T205500Z
LAST-MODIFIED:20260213T205638Z
UID:10002833-1781631000-1781634600@tuftshillel.org
SUMMARY:Community Dinner
DESCRIPTION:Join us for a free mid-week Kosher catered dinner! Come for the food\, stay for the people! Check the instagram on Tuesday morning for what’s being served. \n\n\n\nFood. People. Comfort. \n\n\n\nFor the most up to date info please see our social media \n\n\n\ninstagram.com/tuftshillel \n\n\n\nfacebook.com/tuftshillel
URL:https://tuftshillel.org/event/community-dinner-14/2026-06-16/
CATEGORIES:Be Social (Social Program),Israel
ATTACH;FMTTYPE=image/png:https://tuftshillel.org/wp-content/uploads/2026/02/2023_10_13-Community-Gatherings-3-2.png
END:VEVENT
BEGIN:VEVENT
DTSTART;TZID=America/New_York:20260623T173000
DTEND;TZID=America/New_York:20260623T183000
DTSTAMP:20260424T131057
CREATED:20260213T205500Z
LAST-MODIFIED:20260213T205638Z
UID:10002834-1782235800-1782239400@tuftshillel.org
SUMMARY:Community Dinner
DESCRIPTION:Join us for a free mid-week Kosher catered dinner! Come for the food\, stay for the people! Check the instagram on Tuesday morning for what’s being served. \n\n\n\nFood. People. Comfort. \n\n\n\nFor the most up to date info please see our social media \n\n\n\ninstagram.com/tuftshillel \n\n\n\nfacebook.com/tuftshillel
URL:https://tuftshillel.org/event/community-dinner-14/2026-06-23/
CATEGORIES:Be Social (Social Program),Israel
ATTACH;FMTTYPE=image/png:https://tuftshillel.org/wp-content/uploads/2026/02/2023_10_13-Community-Gatherings-3-2.png
END:VEVENT
BEGIN:VEVENT
DTSTART;TZID=America/New_York:20260630T173000
DTEND;TZID=America/New_York:20260630T183000
DTSTAMP:20260424T131057
CREATED:20260213T205500Z
LAST-MODIFIED:20260213T205638Z
UID:10002835-1782840600-1782844200@tuftshillel.org
SUMMARY:Community Dinner
DESCRIPTION:Join us for a free mid-week Kosher catered dinner! Come for the food\, stay for the people! Check the instagram on Tuesday morning for what’s being served. \n\n\n\nFood. People. Comfort. \n\n\n\nFor the most up to date info please see our social media \n\n\n\ninstagram.com/tuftshillel \n\n\n\nfacebook.com/tuftshillel
URL:https://tuftshillel.org/event/community-dinner-14/2026-06-30/
CATEGORIES:Be Social (Social Program),Israel
ATTACH;FMTTYPE=image/png:https://tuftshillel.org/wp-content/uploads/2026/02/2023_10_13-Community-Gatherings-3-2.png
END:VEVENT
BEGIN:VEVENT
DTSTART;TZID=America/New_York:20260707T173000
DTEND;TZID=America/New_York:20260707T183000
DTSTAMP:20260424T131057
CREATED:20260213T205500Z
LAST-MODIFIED:20260213T205638Z
UID:10002836-1783445400-1783449000@tuftshillel.org
SUMMARY:Community Dinner
DESCRIPTION:Join us for a free mid-week Kosher catered dinner! Come for the food\, stay for the people! Check the instagram on Tuesday morning for what’s being served. \n\n\n\nFood. People. Comfort. \n\n\n\nFor the most up to date info please see our social media \n\n\n\ninstagram.com/tuftshillel \n\n\n\nfacebook.com/tuftshillel
URL:https://tuftshillel.org/event/community-dinner-14/2026-07-07/
CATEGORIES:Be Social (Social Program),Israel
ATTACH;FMTTYPE=image/png:https://tuftshillel.org/wp-content/uploads/2026/02/2023_10_13-Community-Gatherings-3-2.png
END:VEVENT
BEGIN:VEVENT
DTSTART;TZID=America/New_York:20260714T173000
DTEND;TZID=America/New_York:20260714T183000
DTSTAMP:20260424T131057
CREATED:20260213T205500Z
LAST-MODIFIED:20260213T205638Z
UID:10002837-1784050200-1784053800@tuftshillel.org
SUMMARY:Community Dinner
DESCRIPTION:Join us for a free mid-week Kosher catered dinner! Come for the food\, stay for the people! Check the instagram on Tuesday morning for what’s being served. \n\n\n\nFood. People. Comfort. \n\n\n\nFor the most up to date info please see our social media \n\n\n\ninstagram.com/tuftshillel \n\n\n\nfacebook.com/tuftshillel
URL:https://tuftshillel.org/event/community-dinner-14/2026-07-14/
CATEGORIES:Be Social (Social Program),Israel
ATTACH;FMTTYPE=image/png:https://tuftshillel.org/wp-content/uploads/2026/02/2023_10_13-Community-Gatherings-3-2.png
END:VEVENT
BEGIN:VEVENT
DTSTART;TZID=America/New_York:20260721T173000
DTEND;TZID=America/New_York:20260721T183000
DTSTAMP:20260424T131057
CREATED:20260213T205500Z
LAST-MODIFIED:20260213T205638Z
UID:10002838-1784655000-1784658600@tuftshillel.org
SUMMARY:Community Dinner
DESCRIPTION:Join us for a free mid-week Kosher catered dinner! Come for the food\, stay for the people! Check the instagram on Tuesday morning for what’s being served. \n\n\n\nFood. People. Comfort. \n\n\n\nFor the most up to date info please see our social media \n\n\n\ninstagram.com/tuftshillel \n\n\n\nfacebook.com/tuftshillel
URL:https://tuftshillel.org/event/community-dinner-14/2026-07-21/
CATEGORIES:Be Social (Social Program),Israel
ATTACH;FMTTYPE=image/png:https://tuftshillel.org/wp-content/uploads/2026/02/2023_10_13-Community-Gatherings-3-2.png
END:VEVENT
BEGIN:VEVENT
DTSTART;TZID=America/New_York:20260728T173000
DTEND;TZID=America/New_York:20260728T183000
DTSTAMP:20260424T131057
CREATED:20260213T205500Z
LAST-MODIFIED:20260213T205638Z
UID:10002839-1785259800-1785263400@tuftshillel.org
SUMMARY:Community Dinner
DESCRIPTION:Join us for a free mid-week Kosher catered dinner! Come for the food\, stay for the people! Check the instagram on Tuesday morning for what’s being served. \n\n\n\nFood. People. Comfort. \n\n\n\nFor the most up to date info please see our social media \n\n\n\ninstagram.com/tuftshillel \n\n\n\nfacebook.com/tuftshillel
URL:https://tuftshillel.org/event/community-dinner-14/2026-07-28/
CATEGORIES:Be Social (Social Program),Israel
ATTACH;FMTTYPE=image/png:https://tuftshillel.org/wp-content/uploads/2026/02/2023_10_13-Community-Gatherings-3-2.png
END:VEVENT
BEGIN:VEVENT
DTSTART;TZID=America/New_York:20260804T173000
DTEND;TZID=America/New_York:20260804T183000
DTSTAMP:20260424T131057
CREATED:20260213T205500Z
LAST-MODIFIED:20260213T205638Z
UID:10002840-1785864600-1785868200@tuftshillel.org
SUMMARY:Community Dinner
DESCRIPTION:Join us for a free mid-week Kosher catered dinner! Come for the food\, stay for the people! Check the instagram on Tuesday morning for what’s being served. \n\n\n\nFood. People. Comfort. \n\n\n\nFor the most up to date info please see our social media \n\n\n\ninstagram.com/tuftshillel \n\n\n\nfacebook.com/tuftshillel
URL:https://tuftshillel.org/event/community-dinner-14/2026-08-04/
CATEGORIES:Be Social (Social Program),Israel
ATTACH;FMTTYPE=image/png:https://tuftshillel.org/wp-content/uploads/2026/02/2023_10_13-Community-Gatherings-3-2.png
END:VEVENT
BEGIN:VEVENT
DTSTART;TZID=America/New_York:20260811T173000
DTEND;TZID=America/New_York:20260811T183000
DTSTAMP:20260424T131057
CREATED:20260213T205500Z
LAST-MODIFIED:20260213T205638Z
UID:10002841-1786469400-1786473000@tuftshillel.org
SUMMARY:Community Dinner
DESCRIPTION:Join us for a free mid-week Kosher catered dinner! Come for the food\, stay for the people! Check the instagram on Tuesday morning for what’s being served. \n\n\n\nFood. People. Comfort. \n\n\n\nFor the most up to date info please see our social media \n\n\n\ninstagram.com/tuftshillel \n\n\n\nfacebook.com/tuftshillel
URL:https://tuftshillel.org/event/community-dinner-14/2026-08-11/
CATEGORIES:Be Social (Social Program),Israel
ATTACH;FMTTYPE=image/png:https://tuftshillel.org/wp-content/uploads/2026/02/2023_10_13-Community-Gatherings-3-2.png
END:VEVENT
BEGIN:VEVENT
DTSTART;TZID=America/New_York:20260818T173000
DTEND;TZID=America/New_York:20260818T183000
DTSTAMP:20260424T131057
CREATED:20260213T205500Z
LAST-MODIFIED:20260213T205638Z
UID:10002842-1787074200-1787077800@tuftshillel.org
SUMMARY:Community Dinner
DESCRIPTION:Join us for a free mid-week Kosher catered dinner! Come for the food\, stay for the people! Check the instagram on Tuesday morning for what’s being served. \n\n\n\nFood. People. Comfort. \n\n\n\nFor the most up to date info please see our social media \n\n\n\ninstagram.com/tuftshillel \n\n\n\nfacebook.com/tuftshillel
URL:https://tuftshillel.org/event/community-dinner-14/2026-08-18/
CATEGORIES:Be Social (Social Program),Israel
ATTACH;FMTTYPE=image/png:https://tuftshillel.org/wp-content/uploads/2026/02/2023_10_13-Community-Gatherings-3-2.png
END:VEVENT
BEGIN:VEVENT
DTSTART;TZID=America/New_York:20260825T173000
DTEND;TZID=America/New_York:20260825T183000
DTSTAMP:20260424T131057
CREATED:20260213T205500Z
LAST-MODIFIED:20260213T205638Z
UID:10002843-1787679000-1787682600@tuftshillel.org
SUMMARY:Community Dinner
DESCRIPTION:Join us for a free mid-week Kosher catered dinner! Come for the food\, stay for the people! Check the instagram on Tuesday morning for what’s being served. \n\n\n\nFood. People. Comfort. \n\n\n\nFor the most up to date info please see our social media \n\n\n\ninstagram.com/tuftshillel \n\n\n\nfacebook.com/tuftshillel
URL:https://tuftshillel.org/event/community-dinner-14/2026-08-25/
CATEGORIES:Be Social (Social Program),Israel
ATTACH;FMTTYPE=image/png:https://tuftshillel.org/wp-content/uploads/2026/02/2023_10_13-Community-Gatherings-3-2.png
END:VEVENT
BEGIN:VEVENT
DTSTART;TZID=America/New_York:20260901T173000
DTEND;TZID=America/New_York:20260901T183000
DTSTAMP:20260424T131057
CREATED:20260213T205500Z
LAST-MODIFIED:20260213T205638Z
UID:10002844-1788283800-1788287400@tuftshillel.org
SUMMARY:Community Dinner
DESCRIPTION:Join us for a free mid-week Kosher catered dinner! Come for the food\, stay for the people! Check the instagram on Tuesday morning for what’s being served. \n\n\n\nFood. People. Comfort. \n\n\n\nFor the most up to date info please see our social media \n\n\n\ninstagram.com/tuftshillel \n\n\n\nfacebook.com/tuftshillel
URL:https://tuftshillel.org/event/community-dinner-14/2026-09-01/
CATEGORIES:Be Social (Social Program),Israel
ATTACH;FMTTYPE=image/png:https://tuftshillel.org/wp-content/uploads/2026/02/2023_10_13-Community-Gatherings-3-2.png
END:VEVENT
BEGIN:VEVENT
DTSTART;TZID=America/New_York:20260908T173000
DTEND;TZID=America/New_York:20260908T183000
DTSTAMP:20260424T131057
CREATED:20260213T205500Z
LAST-MODIFIED:20260213T205638Z
UID:10002845-1788888600-1788892200@tuftshillel.org
SUMMARY:Community Dinner
DESCRIPTION:Join us for a free mid-week Kosher catered dinner! Come for the food\, stay for the people! Check the instagram on Tuesday morning for what’s being served. \n\n\n\nFood. People. Comfort. \n\n\n\nFor the most up to date info please see our social media \n\n\n\ninstagram.com/tuftshillel \n\n\n\nfacebook.com/tuftshillel
URL:https://tuftshillel.org/event/community-dinner-14/2026-09-08/
CATEGORIES:Be Social (Social Program),Israel
ATTACH;FMTTYPE=image/png:https://tuftshillel.org/wp-content/uploads/2026/02/2023_10_13-Community-Gatherings-3-2.png
END:VEVENT
BEGIN:VEVENT
DTSTART;TZID=America/New_York:20260915T173000
DTEND;TZID=America/New_York:20260915T183000
DTSTAMP:20260424T131058
CREATED:20260213T205500Z
LAST-MODIFIED:20260213T205638Z
UID:10002846-1789493400-1789497000@tuftshillel.org
SUMMARY:Community Dinner
DESCRIPTION:Join us for a free mid-week Kosher catered dinner! Come for the food\, stay for the people! Check the instagram on Tuesday morning for what’s being served. \n\n\n\nFood. People. Comfort. \n\n\n\nFor the most up to date info please see our social media \n\n\n\ninstagram.com/tuftshillel \n\n\n\nfacebook.com/tuftshillel
URL:https://tuftshillel.org/event/community-dinner-14/2026-09-15/
CATEGORIES:Be Social (Social Program),Israel
ATTACH;FMTTYPE=image/png:https://tuftshillel.org/wp-content/uploads/2026/02/2023_10_13-Community-Gatherings-3-2.png
END:VEVENT
BEGIN:VEVENT
DTSTART;TZID=America/New_York:20260922T173000
DTEND;TZID=America/New_York:20260922T183000
DTSTAMP:20260424T131058
CREATED:20260213T205500Z
LAST-MODIFIED:20260213T205638Z
UID:10002847-1790098200-1790101800@tuftshillel.org
SUMMARY:Community Dinner
DESCRIPTION:Join us for a free mid-week Kosher catered dinner! Come for the food\, stay for the people! Check the instagram on Tuesday morning for what’s being served. \n\n\n\nFood. People. Comfort. \n\n\n\nFor the most up to date info please see our social media \n\n\n\ninstagram.com/tuftshillel \n\n\n\nfacebook.com/tuftshillel
URL:https://tuftshillel.org/event/community-dinner-14/2026-09-22/
CATEGORIES:Be Social (Social Program),Israel
ATTACH;FMTTYPE=image/png:https://tuftshillel.org/wp-content/uploads/2026/02/2023_10_13-Community-Gatherings-3-2.png
END:VEVENT
BEGIN:VEVENT
DTSTART;TZID=America/New_York:20260929T173000
DTEND;TZID=America/New_York:20260929T183000
DTSTAMP:20260424T131058
CREATED:20260213T205500Z
LAST-MODIFIED:20260213T205638Z
UID:10002848-1790703000-1790706600@tuftshillel.org
SUMMARY:Community Dinner
DESCRIPTION:Join us for a free mid-week Kosher catered dinner! Come for the food\, stay for the people! Check the instagram on Tuesday morning for what’s being served. \n\n\n\nFood. People. Comfort. \n\n\n\nFor the most up to date info please see our social media \n\n\n\ninstagram.com/tuftshillel \n\n\n\nfacebook.com/tuftshillel
URL:https://tuftshillel.org/event/community-dinner-14/2026-09-29/
CATEGORIES:Be Social (Social Program),Israel
ATTACH;FMTTYPE=image/png:https://tuftshillel.org/wp-content/uploads/2026/02/2023_10_13-Community-Gatherings-3-2.png
END:VEVENT
BEGIN:VEVENT
DTSTART;TZID=America/New_York:20261006T173000
DTEND;TZID=America/New_York:20261006T183000
DTSTAMP:20260424T131058
CREATED:20260213T205500Z
LAST-MODIFIED:20260213T205638Z
UID:10002849-1791307800-1791311400@tuftshillel.org
SUMMARY:Community Dinner
DESCRIPTION:Join us for a free mid-week Kosher catered dinner! Come for the food\, stay for the people! Check the instagram on Tuesday morning for what’s being served. \n\n\n\nFood. People. Comfort. \n\n\n\nFor the most up to date info please see our social media \n\n\n\ninstagram.com/tuftshillel \n\n\n\nfacebook.com/tuftshillel
URL:https://tuftshillel.org/event/community-dinner-14/2026-10-06/
CATEGORIES:Be Social (Social Program),Israel
ATTACH;FMTTYPE=image/png:https://tuftshillel.org/wp-content/uploads/2026/02/2023_10_13-Community-Gatherings-3-2.png
END:VEVENT
BEGIN:VEVENT
DTSTART;TZID=America/New_York:20261013T173000
DTEND;TZID=America/New_York:20261013T183000
DTSTAMP:20260424T131058
CREATED:20260213T205500Z
LAST-MODIFIED:20260213T205638Z
UID:10002850-1791912600-1791916200@tuftshillel.org
SUMMARY:Community Dinner
DESCRIPTION:Join us for a free mid-week Kosher catered dinner! Come for the food\, stay for the people! Check the instagram on Tuesday morning for what’s being served. \n\n\n\nFood. People. Comfort. \n\n\n\nFor the most up to date info please see our social media \n\n\n\ninstagram.com/tuftshillel \n\n\n\nfacebook.com/tuftshillel
URL:https://tuftshillel.org/event/community-dinner-14/2026-10-13/
CATEGORIES:Be Social (Social Program),Israel
ATTACH;FMTTYPE=image/png:https://tuftshillel.org/wp-content/uploads/2026/02/2023_10_13-Community-Gatherings-3-2.png
END:VEVENT
BEGIN:VEVENT
DTSTART;TZID=America/New_York:20261020T173000
DTEND;TZID=America/New_York:20261020T183000
DTSTAMP:20260424T131058
CREATED:20260213T205500Z
LAST-MODIFIED:20260213T205638Z
UID:10002851-1792517400-1792521000@tuftshillel.org
SUMMARY:Community Dinner
DESCRIPTION:Join us for a free mid-week Kosher catered dinner! Come for the food\, stay for the people! Check the instagram on Tuesday morning for what’s being served. \n\n\n\nFood. People. Comfort. \n\n\n\nFor the most up to date info please see our social media \n\n\n\ninstagram.com/tuftshillel \n\n\n\nfacebook.com/tuftshillel
URL:https://tuftshillel.org/event/community-dinner-14/2026-10-20/
CATEGORIES:Be Social (Social Program),Israel
ATTACH;FMTTYPE=image/png:https://tuftshillel.org/wp-content/uploads/2026/02/2023_10_13-Community-Gatherings-3-2.png
END:VEVENT
BEGIN:VEVENT
DTSTART;TZID=America/New_York:20261027T173000
DTEND;TZID=America/New_York:20261027T183000
DTSTAMP:20260424T131058
CREATED:20260213T205500Z
LAST-MODIFIED:20260213T205638Z
UID:10002852-1793122200-1793125800@tuftshillel.org
SUMMARY:Community Dinner
DESCRIPTION:Join us for a free mid-week Kosher catered dinner! Come for the food\, stay for the people! Check the instagram on Tuesday morning for what’s being served. \n\n\n\nFood. People. Comfort. \n\n\n\nFor the most up to date info please see our social media \n\n\n\ninstagram.com/tuftshillel \n\n\n\nfacebook.com/tuftshillel
URL:https://tuftshillel.org/event/community-dinner-14/2026-10-27/
CATEGORIES:Be Social (Social Program),Israel
ATTACH;FMTTYPE=image/png:https://tuftshillel.org/wp-content/uploads/2026/02/2023_10_13-Community-Gatherings-3-2.png
END:VEVENT
BEGIN:VEVENT
DTSTART;TZID=America/New_York:20261103T173000
DTEND;TZID=America/New_York:20261103T183000
DTSTAMP:20260424T131058
CREATED:20260213T205500Z
LAST-MODIFIED:20260213T205638Z
UID:10002853-1793727000-1793730600@tuftshillel.org
SUMMARY:Community Dinner
DESCRIPTION:Join us for a free mid-week Kosher catered dinner! Come for the food\, stay for the people! Check the instagram on Tuesday morning for what’s being served. \n\n\n\nFood. People. Comfort. \n\n\n\nFor the most up to date info please see our social media \n\n\n\ninstagram.com/tuftshillel \n\n\n\nfacebook.com/tuftshillel
URL:https://tuftshillel.org/event/community-dinner-14/2026-11-03/
CATEGORIES:Be Social (Social Program),Israel
ATTACH;FMTTYPE=image/png:https://tuftshillel.org/wp-content/uploads/2026/02/2023_10_13-Community-Gatherings-3-2.png
END:VEVENT
BEGIN:VEVENT
DTSTART;TZID=America/New_York:20261110T173000
DTEND;TZID=America/New_York:20261110T183000
DTSTAMP:20260424T131058
CREATED:20260213T205500Z
LAST-MODIFIED:20260213T205638Z
UID:10002854-1794331800-1794335400@tuftshillel.org
SUMMARY:Community Dinner
DESCRIPTION:Join us for a free mid-week Kosher catered dinner! Come for the food\, stay for the people! Check the instagram on Tuesday morning for what’s being served. \n\n\n\nFood. People. Comfort. \n\n\n\nFor the most up to date info please see our social media \n\n\n\ninstagram.com/tuftshillel \n\n\n\nfacebook.com/tuftshillel
URL:https://tuftshillel.org/event/community-dinner-14/2026-11-10/
CATEGORIES:Be Social (Social Program),Israel
ATTACH;FMTTYPE=image/png:https://tuftshillel.org/wp-content/uploads/2026/02/2023_10_13-Community-Gatherings-3-2.png
END:VEVENT
BEGIN:VEVENT
DTSTART;TZID=America/New_York:20261117T173000
DTEND;TZID=America/New_York:20261117T183000
DTSTAMP:20260424T131058
CREATED:20260213T205500Z
LAST-MODIFIED:20260213T205638Z
UID:10002855-1794936600-1794940200@tuftshillel.org
SUMMARY:Community Dinner
DESCRIPTION:Join us for a free mid-week Kosher catered dinner! Come for the food\, stay for the people! Check the instagram on Tuesday morning for what’s being served. \n\n\n\nFood. People. Comfort. \n\n\n\nFor the most up to date info please see our social media \n\n\n\ninstagram.com/tuftshillel \n\n\n\nfacebook.com/tuftshillel
URL:https://tuftshillel.org/event/community-dinner-14/2026-11-17/
CATEGORIES:Be Social (Social Program),Israel
ATTACH;FMTTYPE=image/png:https://tuftshillel.org/wp-content/uploads/2026/02/2023_10_13-Community-Gatherings-3-2.png
END:VEVENT
END:VCALENDAR