BEGIN:VCALENDAR
VERSION:2.0
PRODID:-//Tufts Hillel - ECPv6.15.20//NONSGML v1.0//EN
CALSCALE:GREGORIAN
METHOD:PUBLISH
X-WR-CALNAME:Tufts Hillel
X-ORIGINAL-URL:https://tuftshillel.org
X-WR-CALDESC:Events for Tufts Hillel
REFRESH-INTERVAL;VALUE=DURATION:PT1H
X-Robots-Tag:noindex
X-PUBLISHED-TTL:PT1H
BEGIN:VTIMEZONE
TZID:America/New_York
BEGIN:DAYLIGHT
TZOFFSETFROM:-0500
TZOFFSETTO:-0400
TZNAME:EDT
DTSTART:20250309T070000
END:DAYLIGHT
BEGIN:STANDARD
TZOFFSETFROM:-0400
TZOFFSETTO:-0500
TZNAME:EST
DTSTART:20251102T060000
END:STANDARD
BEGIN:DAYLIGHT
TZOFFSETFROM:-0500
TZOFFSETTO:-0400
TZNAME:EDT
DTSTART:20260308T070000
END:DAYLIGHT
BEGIN:STANDARD
TZOFFSETFROM:-0400
TZOFFSETTO:-0500
TZNAME:EST
DTSTART:20261101T060000
END:STANDARD
BEGIN:DAYLIGHT
TZOFFSETFROM:-0500
TZOFFSETTO:-0400
TZNAME:EDT
DTSTART:20270314T070000
END:DAYLIGHT
BEGIN:STANDARD
TZOFFSETFROM:-0400
TZOFFSETTO:-0500
TZNAME:EST
DTSTART:20271107T060000
END:STANDARD
END:VTIMEZONE
BEGIN:VEVENT
DTSTART;TZID=America/New_York:20260409T203000
DTEND;TZID=America/New_York:20260409T220000
DTSTAMP:20260423T163740
CREATED:20260406T002955Z
LAST-MODIFIED:20260406T020541Z
UID:10003308-1775766600-1775772000@tuftshillel.org
SUMMARY:Mimouna
DESCRIPTION:Come join us for Mimouna\, a traditional Moroccan Jewish party that celebrates the end of Passover and the return of Chametz! Make your own traditional Moroccan desserts\, enjoy the music\, learn more about Sephardic Judaism\, and enter to win a free JBL speaker.
URL:https://tuftshillel.org/event/mimouna/
LOCATION:Tufts Hillel Building\, 220 Packard Ave\, Medford\, MA\, 02155
CATEGORIES:Be Social,Be Social (Social Program),Holidays,Jewish Learning
ATTACH;FMTTYPE=image/png:https://tuftshillel.org/wp-content/uploads/2026/04/2026_4_9_Mimouna-2-2.png
END:VEVENT
BEGIN:VEVENT
DTSTART;TZID=America/New_York:20260407T163000
DTEND;TZID=America/New_York:20260407T173000
DTSTAMP:20260423T163740
CREATED:20250911T150415Z
LAST-MODIFIED:20260213T202657Z
UID:10002963-1775579400-1775583000@tuftshillel.org
SUMMARY:Texts and Values: A Weekly Jewish Study Circle
DESCRIPTION:Join Rabbi Naftali Brawer for a weekly exploration of Jewish values and ethical teachings embedded in ancient Jewish texts. No prior knowledge is required\, just curiosity and an open mind.
URL:https://tuftshillel.org/event/texts-and-values-a-weekly-jewish-study-circle/2026-04-07/
LOCATION:Tufts Hillel Building\, 220 Packard Ave\, Medford\, MA\, 02155
CATEGORIES:Jewish Learning
ATTACH;FMTTYPE=image/png:https://tuftshillel.org/wp-content/uploads/2025/09/2025_09_16_TextsAndValues_AWeeklyJewishStudyCircle-3.png
END:VEVENT
BEGIN:VEVENT
DTSTART;TZID=America/New_York:20260407T123000
DTEND;TZID=America/New_York:20260407T133000
DTSTAMP:20260423T163740
CREATED:20260330T014701Z
LAST-MODIFIED:20260330T014706Z
UID:10003304-1775565000-1775568600@tuftshillel.org
SUMMARY:Passover Text Study
DESCRIPTION:Come join us for a Passover text study! We will deep dive into a text and explore it together.
URL:https://tuftshillel.org/event/passover-text-study/
LOCATION:Tufts Hillel Building\, 220 Packard Ave\, Medford\, MA\, 02155
CATEGORIES:Jewish Learning
ATTACH;FMTTYPE=image/png:https://tuftshillel.org/wp-content/uploads/2026/03/2026_3_29_PassoverTextStudy-3.png
END:VEVENT
BEGIN:VEVENT
DTSTART;TZID=America/New_York:20260406T120000
DTEND;TZID=America/New_York:20260406T133000
DTSTAMP:20260423T163740
CREATED:20260330T004341Z
LAST-MODIFIED:20260330T022128Z
UID:10003303-1775476800-1775482200@tuftshillel.org
SUMMARY:Intergenerational Passover Luncheon
DESCRIPTION:Make a new friend\, share a meal\, and connect across generations. The Edith Sulzberg Memorial Intergenerational Program pairs Tufts students with residents of Cabot Park Village for conversation\, community\, and Jewish celebration. \n\n\n\nJoin us for an intergenerational Passover luncheon at Tufts Hillel! Contact Lexi (Alexis.Trifon@tufts.edu) by Friday 4/3 to sign up.
URL:https://tuftshillel.org/event/intergenerational-passover-luncheon/
LOCATION:Tufts Hillel Building\, 220 Packard Ave\, Medford\, MA\, 02155
ATTACH;FMTTYPE=image/png:https://tuftshillel.org/wp-content/uploads/2026/03/Edith-Sulzberg-Memorial-Intergenerational-ProgramIntergenerational-luncheon-11.png
END:VEVENT
BEGIN:VEVENT
DTSTART;TZID=America/New_York:20260405T150000
DTEND;TZID=America/New_York:20260405T150000
DTSTAMP:20260423T163740
CREATED:20260404T211235Z
LAST-MODIFIED:20260404T211240Z
UID:10003306-1775401200-1775401200@tuftshillel.org
SUMMARY:Matzah Pizza Making
DESCRIPTION:Come on over to Hillel to construct/assemble your own matzah pizza!
URL:https://tuftshillel.org/event/matzah-pizza-making-2/
LOCATION:Tufts Hillel Building\, 220 Packard Ave\, Medford\, MA\, 02155
CATEGORIES:Be Social,Be Social (Social Program),Holidays
ATTACH;FMTTYPE=image/png:https://tuftshillel.org/wp-content/uploads/2026/04/Untitled-11.png
END:VEVENT
BEGIN:VEVENT
DTSTART;TZID=America/New_York:20260403T100000
DTEND;TZID=America/New_York:20260403T110000
DTSTAMP:20260423T163740
CREATED:20250902T190648Z
LAST-MODIFIED:20260319T142621Z
UID:10002893-1775210400-1775214000@tuftshillel.org
SUMMARY:Talmud Chaburah
DESCRIPTION:Want to take sharpen your Talmud skills? Join a weekly\, text-based study group where you’ll work through the Hebrew/Aramaic of the Gemara together\, sharpening both reading skills and analytical thinking. Guided by Rabbi Brawer\, this chaburah offers a collaborative space for deep learning and thoughtful discussion. \n\n\n\nPrerequisite: Participants should be comfortable reading Talmud in the original Hebrew/Aramaic.
URL:https://tuftshillel.org/event/talmud-chaburah/2026-04-03/
LOCATION:Tufts Hillel Building\, 220 Packard Ave\, Medford\, MA\, 02155
CATEGORIES:Jewish Learning
ATTACH;FMTTYPE=image/png:https://tuftshillel.org/wp-content/uploads/2025/09/2026_2_13_WeeklyTalmudChaburah-2.png
END:VEVENT
BEGIN:VEVENT
DTSTART;TZID=America/New_York:20260331T190000
DTEND;TZID=America/New_York:20260331T190000
DTSTAMP:20260423T163740
CREATED:20260319T144825Z
LAST-MODIFIED:20260325T151038Z
UID:10003296-1774983600-1774983600@tuftshillel.org
SUMMARY:Building Bridges GIM
DESCRIPTION:Come learn about Building Bridges\, a 2 credit\, pass/fail ExCollege class focused on learning and building dialogue skills and talking about American Ethics across faiths. \n\n\n\nApply here for the Fall 2026 Class:  https://forms.gle/e2jPedUU71dqvGQN9
URL:https://tuftshillel.org/event/building-bridges-gim/
LOCATION:Tufts Hillel Building\, 220 Packard Ave\, Medford\, MA\, 02155
CATEGORIES:Social Justice
ATTACH;FMTTYPE=image/png:https://tuftshillel.org/wp-content/uploads/2026/03/2025_05_22_BuildingBridgesInitiative-5.png
END:VEVENT
BEGIN:VEVENT
DTSTART;TZID=America/New_York:20260330T180000
DTEND;TZID=America/New_York:20260330T190000
DTSTAMP:20260423T163740
CREATED:20260325T201136Z
LAST-MODIFIED:20260325T201141Z
UID:10003302-1774893600-1774897200@tuftshillel.org
SUMMARY:Spring Festivals and Historical Connections (Passover and Easter)
DESCRIPTION:A discussion about the historical and cultural connections between Easter and Passover!
URL:https://tuftshillel.org/event/spring-festivals-and-historical-connections-passover-and-easter/
LOCATION:Tufts Hillel Building\, 220 Packard Ave\, Medford\, MA\, 02155
CATEGORIES:Be Social (Social Program),Jewish Learning
ATTACH;FMTTYPE=image/png:https://tuftshillel.org/wp-content/uploads/2026/03/2026_3_25_Spring_Festival_and_Historic_Connections-2.png
END:VEVENT
BEGIN:VEVENT
DTSTART;TZID=America/New_York:20260327T120000
DTEND;TZID=America/New_York:20260327T120000
DTSTAMP:20260423T163740
CREATED:20260323T143900Z
LAST-MODIFIED:20260323T143907Z
UID:10003300-1774612800-1774612800@tuftshillel.org
SUMMARY:Omanut M'Ahavah GIM
DESCRIPTION:Interested in learning how to knit and crochet? Want to help out families in need? OMA does both with no prior experience necessary! Join us to create hats and blankets for babies in the Neonatal Intensive Care Unit at Tufts Medical Center. Make some friends (and bring some too) while letting yourself mentally escape from schoolwork and life’s stresses. Come as you are to learn all about it – materials will be provided\, along with free food! We’d love to have you.
URL:https://tuftshillel.org/event/omanut-mahavah-gim/
LOCATION:Tufts Hillel Building\, 220 Packard Ave\, Medford\, MA\, 02155
CATEGORIES:Be Social,Be Social (Social Program),Social Justice
ATTACH;FMTTYPE=image/png:https://tuftshillel.org/wp-content/uploads/2026/03/2026_3_26_OmanutMahavahOMAGIM-2-1.png
END:VEVENT
BEGIN:VEVENT
DTSTART;TZID=America/New_York:20260327T100000
DTEND;TZID=America/New_York:20260327T110000
DTSTAMP:20260423T163740
CREATED:20250902T190648Z
LAST-MODIFIED:20260319T142621Z
UID:10002892-1774605600-1774609200@tuftshillel.org
SUMMARY:Talmud Chaburah
DESCRIPTION:Want to take sharpen your Talmud skills? Join a weekly\, text-based study group where you’ll work through the Hebrew/Aramaic of the Gemara together\, sharpening both reading skills and analytical thinking. Guided by Rabbi Brawer\, this chaburah offers a collaborative space for deep learning and thoughtful discussion. \n\n\n\nPrerequisite: Participants should be comfortable reading Talmud in the original Hebrew/Aramaic.
URL:https://tuftshillel.org/event/talmud-chaburah/2026-03-27/
LOCATION:Tufts Hillel Building\, 220 Packard Ave\, Medford\, MA\, 02155
CATEGORIES:Jewish Learning
ATTACH;FMTTYPE=image/png:https://tuftshillel.org/wp-content/uploads/2025/09/2026_2_13_WeeklyTalmudChaburah-2.png
END:VEVENT
BEGIN:VEVENT
DTSTART;TZID=America/New_York:20260325T190000
DTEND;TZID=America/New_York:20260325T200000
DTSTAMP:20260423T163740
CREATED:20260321T183226Z
LAST-MODIFIED:20260321T183231Z
UID:10003299-1774465200-1774468800@tuftshillel.org
SUMMARY:Paint & Sip
DESCRIPTION:A fun night of mocktails\, painting\, and community building hosted by the Hillel Jewish Women’s Collective! Drinks and snacks will be provided; bring your friends!
URL:https://tuftshillel.org/event/paint-sip-2/
LOCATION:Tufts Hillel Building\, 220 Packard Ave\, Medford\, MA\, 02155
CATEGORIES:Be Social (Social Program)
ATTACH;FMTTYPE=image/png:https://tuftshillel.org/wp-content/uploads/2026/03/2026_3_13_Paint_and_Sip-2.png
END:VEVENT
BEGIN:VEVENT
DTSTART;TZID=America/New_York:20260324T183000
DTEND;TZID=America/New_York:20260324T193000
DTSTAMP:20260423T163740
CREATED:20260319T153608Z
LAST-MODIFIED:20260320T000233Z
UID:10003297-1774377000-1774380600@tuftshillel.org
SUMMARY:Late Night Flight
DESCRIPTION:Join us to learn about dreams in a Jewish context\, from the importance of dreams in Jewish history to the ways Judaism interprets dreams. Come with a dream of yours in mind!
URL:https://tuftshillel.org/event/late-night-flight/
LOCATION:Tufts Hillel Building\, 220 Packard Ave\, Medford\, MA\, 02155
CATEGORIES:Jewish Learning
ATTACH;FMTTYPE=image/png:https://tuftshillel.org/wp-content/uploads/2026/03/2026_3_24_LateNightFlightHistoryandInterpretationsofDreamsinJudaism-3-1.png
END:VEVENT
BEGIN:VEVENT
DTSTART;TZID=America/New_York:20260313T100000
DTEND;TZID=America/New_York:20260313T110000
DTSTAMP:20260423T163740
CREATED:20250902T190648Z
LAST-MODIFIED:20260319T142621Z
UID:10002890-1773396000-1773399600@tuftshillel.org
SUMMARY:Talmud Chaburah
DESCRIPTION:Want to take sharpen your Talmud skills? Join a weekly\, text-based study group where you’ll work through the Hebrew/Aramaic of the Gemara together\, sharpening both reading skills and analytical thinking. Guided by Rabbi Brawer\, this chaburah offers a collaborative space for deep learning and thoughtful discussion. \n\n\n\nPrerequisite: Participants should be comfortable reading Talmud in the original Hebrew/Aramaic.
URL:https://tuftshillel.org/event/talmud-chaburah/2026-03-13/
LOCATION:Tufts Hillel Building\, 220 Packard Ave\, Medford\, MA\, 02155
CATEGORIES:Jewish Learning
ATTACH;FMTTYPE=image/png:https://tuftshillel.org/wp-content/uploads/2025/09/2026_2_13_WeeklyTalmudChaburah-2.png
END:VEVENT
BEGIN:VEVENT
DTSTART;TZID=America/New_York:20260310T190000
DTEND;TZID=America/New_York:20260310T220000
DTSTAMP:20260423T163740
CREATED:20260304T175749Z
LAST-MODIFIED:20260304T175805Z
UID:10003290-1773169200-1773180000@tuftshillel.org
SUMMARY:Team Israel World Baseball Classic Watch Party
DESCRIPTION:Calling all baseball fans!! Join us at Hillel to watch Team Israel take on the Netherlands in the World Baseball Classic. Snacks and refreshments will be provided.
URL:https://tuftshillel.org/event/team-israel-world-baseball-classic-watch-party/
LOCATION:Tufts Hillel Building\, 220 Packard Ave\, Medford\, MA\, 02155
CATEGORIES:Be Social (Social Program)
ATTACH;FMTTYPE=image/png:https://tuftshillel.org/wp-content/uploads/2026/03/2026_3_3_Team_Israel_World_Baseball_Classic_Watch_Party-1.png
END:VEVENT
BEGIN:VEVENT
DTSTART;TZID=America/New_York:20260310T163000
DTEND;TZID=America/New_York:20260310T173000
DTSTAMP:20260423T163740
CREATED:20250911T150415Z
LAST-MODIFIED:20260213T202657Z
UID:10002959-1773160200-1773163800@tuftshillel.org
SUMMARY:Texts and Values: A Weekly Jewish Study Circle
DESCRIPTION:Join Rabbi Naftali Brawer for a weekly exploration of Jewish values and ethical teachings embedded in ancient Jewish texts. No prior knowledge is required\, just curiosity and an open mind.
URL:https://tuftshillel.org/event/texts-and-values-a-weekly-jewish-study-circle/2026-03-10/
LOCATION:Tufts Hillel Building\, 220 Packard Ave\, Medford\, MA\, 02155
CATEGORIES:Jewish Learning
ATTACH;FMTTYPE=image/png:https://tuftshillel.org/wp-content/uploads/2025/09/2025_09_16_TextsAndValues_AWeeklyJewishStudyCircle-3.png
END:VEVENT
BEGIN:VEVENT
DTSTART;TZID=America/New_York:20260306T100000
DTEND;TZID=America/New_York:20260306T110000
DTSTAMP:20260423T163741
CREATED:20250902T190648Z
LAST-MODIFIED:20260319T142621Z
UID:10002889-1772791200-1772794800@tuftshillel.org
SUMMARY:Talmud Chaburah
DESCRIPTION:Want to take sharpen your Talmud skills? Join a weekly\, text-based study group where you’ll work through the Hebrew/Aramaic of the Gemara together\, sharpening both reading skills and analytical thinking. Guided by Rabbi Brawer\, this chaburah offers a collaborative space for deep learning and thoughtful discussion. \n\n\n\nPrerequisite: Participants should be comfortable reading Talmud in the original Hebrew/Aramaic.
URL:https://tuftshillel.org/event/talmud-chaburah/2026-03-06/
LOCATION:Tufts Hillel Building\, 220 Packard Ave\, Medford\, MA\, 02155
CATEGORIES:Jewish Learning
ATTACH;FMTTYPE=image/png:https://tuftshillel.org/wp-content/uploads/2025/09/2026_2_13_WeeklyTalmudChaburah-2.png
END:VEVENT
BEGIN:VEVENT
DTSTART;TZID=America/New_York:20260302T193000
DTEND;TZID=America/New_York:20260302T210000
DTSTAMP:20260423T163741
CREATED:20260222T162253Z
LAST-MODIFIED:20260222T162257Z
UID:10003285-1772479800-1772485200@tuftshillel.org
SUMMARY:Purim Masque-Rager
DESCRIPTION:Come celebrate Purim at Hillel’s Masque-Rager and Variety Show! 🎭✨ \n\n\n\nWear your best costumes\, enjoy delicious foods and drinks\, and watch the Purim variety show featuring performances by the Jackson Jills\, sQ!\, and Fire-n-Flow\, plus our very own Purim spiel featuring the Hillel Student Board Religious Branch!
URL:https://tuftshillel.org/event/purim-masque-rager-2/
LOCATION:Tufts Hillel Building\, 220 Packard Ave\, Medford\, MA\, 02155
CATEGORIES:Be Social,Be Social (Social Program),Holidays
ATTACH;FMTTYPE=image/png:https://tuftshillel.org/wp-content/uploads/2026/02/2026_02_22-Purim-Masque-Rager-2-1.png
END:VEVENT
BEGIN:VEVENT
DTSTART;TZID=America/New_York:20260227T160000
DTEND;TZID=America/New_York:20260227T170000
DTSTAMP:20260423T163741
CREATED:20260222T043936Z
LAST-MODIFIED:20260222T043940Z
UID:10003284-1772208000-1772211600@tuftshillel.org
SUMMARY:JQUEST Welcome Event
DESCRIPTION:JQUEST is hosting a welcome event to usher in a new space for the Jewish and queer community\, bringing cozy vibes and a place where you can be authentically yourself with others to make friends and connect with shared experiences. Open to all Jewish and/or LGBTQ+ students as well as allies!
URL:https://tuftshillel.org/event/jquest-welcome-event/
LOCATION:Tufts Hillel Building\, 220 Packard Ave\, Medford\, MA\, 02155
ATTACH;FMTTYPE=image/png:https://tuftshillel.org/wp-content/uploads/2026/02/2026_2_21_JQUESTWelcomeEvent-2.png
END:VEVENT
BEGIN:VEVENT
DTSTART;TZID=America/New_York:20260227T100000
DTEND;TZID=America/New_York:20260227T110000
DTSTAMP:20260423T163741
CREATED:20250902T190648Z
LAST-MODIFIED:20260319T142621Z
UID:10002888-1772186400-1772190000@tuftshillel.org
SUMMARY:Talmud Chaburah
DESCRIPTION:Want to take sharpen your Talmud skills? Join a weekly\, text-based study group where you’ll work through the Hebrew/Aramaic of the Gemara together\, sharpening both reading skills and analytical thinking. Guided by Rabbi Brawer\, this chaburah offers a collaborative space for deep learning and thoughtful discussion. \n\n\n\nPrerequisite: Participants should be comfortable reading Talmud in the original Hebrew/Aramaic.
URL:https://tuftshillel.org/event/talmud-chaburah/2026-02-27/
LOCATION:Tufts Hillel Building\, 220 Packard Ave\, Medford\, MA\, 02155
CATEGORIES:Jewish Learning
ATTACH;FMTTYPE=image/png:https://tuftshillel.org/wp-content/uploads/2025/09/2026_2_13_WeeklyTalmudChaburah-2.png
END:VEVENT
BEGIN:VEVENT
DTSTART;TZID=America/New_York:20260226T190000
DTEND;TZID=America/New_York:20260226T200000
DTSTAMP:20260423T163741
CREATED:20260218T133119Z
LAST-MODIFIED:20260218T133123Z
UID:10003281-1772132400-1772136000@tuftshillel.org
SUMMARY:Loss to Reconciliation: Conversations with bereaved Palestinian and Israeli families
DESCRIPTION:The Parents Circle – Families Forum is a joint Israeli-Palestinian organization made up of over 800 bereaved families. Their common bond is that they have lost a close family member to the conflict. But instead of choosing revenge\, they have chosen a path of reconciliation. Through their educational activities\, these bereaved members have joined together to take tens of thousands of Palestinians and Israelis on journeys of reconciliation. It is often raw and always emotional. But out of these interactions\, comes change. Not the kind of change that makes headlines\, but a more personal and profound shift in perspective. \n\n\n\nOn February 26th at 7 pm\, we will get the chance to hear from Elana Kaminka\, a bereaved Israeli mother\, and Arab Aramin\, a bereaved Palestinian brother. Both will share their stories of loss and personal journeys towards reconciliation\, with time for Q&A with audience participation
URL:https://tuftshillel.org/event/loss-to-reconciliation-conversations-with-bereaved-palestinian-and-israeli-families/
LOCATION:Tufts Hillel Building\, 220 Packard Ave\, Medford\, MA\, 02155
CATEGORIES:Jewish Learning,Social Justice
ATTACH;FMTTYPE=image/png:https://tuftshillel.org/wp-content/uploads/2026/02/2026_2_18_From-Loss-to-Reconciliation-2-1.png
END:VEVENT
BEGIN:VEVENT
DTSTART;TZID=America/New_York:20260225T180000
DTEND;TZID=America/New_York:20260225T190000
DTSTAMP:20260423T163741
CREATED:20260222T040800Z
LAST-MODIFIED:20260222T040805Z
UID:10003283-1772042400-1772046000@tuftshillel.org
SUMMARY:Nice Jewish 'Bos: Stress and Wellness
DESCRIPTION:When was your last crash out? What caused it? This week at Nice Jewish ‘Bos\, join us for a conversation about stress and wellness. Snacks will be provided. \n\n\n\nNice Jewish ‘Bos (NJB) is a new series at Hillel exploring what it means to be a Jewish man in the 21st century. Join us!
URL:https://tuftshillel.org/event/nice-jewish-bos-stress-and-wellness/
LOCATION:Tufts Hillel Building\, 220 Packard Ave\, Medford\, MA\, 02155
CATEGORIES:Be Social,Be Social (Social Program),Jewish Learning
ATTACH;FMTTYPE=image/png:https://tuftshillel.org/wp-content/uploads/2026/02/2026_01_15_NJBNiceJewishBos.png
END:VEVENT
BEGIN:VEVENT
DTSTART;TZID=America/New_York:20260224T183000
DTEND;TZID=America/New_York:20260224T193000
DTSTAMP:20260423T163741
CREATED:20260216T180531Z
LAST-MODIFIED:20260216T180535Z
UID:10003280-1771957800-1771961400@tuftshillel.org
SUMMARY:Shmirat Haguf Spa Night
DESCRIPTION:Shmirat Haguf Spa Night is a space to explore what it means to care for yourself in Judaism while unwinding and relaxing during midterms. Join us for a conversation about the concept of Shmirat Haguf and how it shows up in your life. Snacks and face masks will be provided!
URL:https://tuftshillel.org/event/shmirat-haguf-spa-night/
LOCATION:Tufts Hillel Building\, 220 Packard Ave\, Medford\, MA\, 02155
CATEGORIES:Be Social (Social Program),Jewish Learning
ATTACH;FMTTYPE=image/png:https://tuftshillel.org/wp-content/uploads/2026/02/2026_2_16_Shmirat_Haguf_Spa_Night-2.png
END:VEVENT
BEGIN:VEVENT
DTSTART;TZID=America/New_York:20260224T163000
DTEND;TZID=America/New_York:20260224T173000
DTSTAMP:20260423T163741
CREATED:20250911T150415Z
LAST-MODIFIED:20260213T202657Z
UID:10002957-1771950600-1771954200@tuftshillel.org
SUMMARY:Texts and Values: A Weekly Jewish Study Circle
DESCRIPTION:Join Rabbi Naftali Brawer for a weekly exploration of Jewish values and ethical teachings embedded in ancient Jewish texts. No prior knowledge is required\, just curiosity and an open mind.
URL:https://tuftshillel.org/event/texts-and-values-a-weekly-jewish-study-circle/2026-02-24/
LOCATION:Tufts Hillel Building\, 220 Packard Ave\, Medford\, MA\, 02155
CATEGORIES:Jewish Learning
ATTACH;FMTTYPE=image/png:https://tuftshillel.org/wp-content/uploads/2025/09/2025_09_16_TextsAndValues_AWeeklyJewishStudyCircle-3.png
END:VEVENT
BEGIN:VEVENT
DTSTART;TZID=America/New_York:20260220T100000
DTEND;TZID=America/New_York:20260220T110000
DTSTAMP:20260423T163741
CREATED:20250902T190648Z
LAST-MODIFIED:20260319T142621Z
UID:10002887-1771581600-1771585200@tuftshillel.org
SUMMARY:Talmud Chaburah
DESCRIPTION:Want to take sharpen your Talmud skills? Join a weekly\, text-based study group where you’ll work through the Hebrew/Aramaic of the Gemara together\, sharpening both reading skills and analytical thinking. Guided by Rabbi Brawer\, this chaburah offers a collaborative space for deep learning and thoughtful discussion. \n\n\n\nPrerequisite: Participants should be comfortable reading Talmud in the original Hebrew/Aramaic.
URL:https://tuftshillel.org/event/talmud-chaburah/2026-02-20/
LOCATION:Tufts Hillel Building\, 220 Packard Ave\, Medford\, MA\, 02155
CATEGORIES:Jewish Learning
ATTACH;FMTTYPE=image/png:https://tuftshillel.org/wp-content/uploads/2025/09/2026_2_13_WeeklyTalmudChaburah-2.png
END:VEVENT
BEGIN:VEVENT
DTSTART;TZID=America/New_York:20260218T183000
DTEND;TZID=America/New_York:20260218T200000
DTSTAMP:20260423T163741
CREATED:20260212T184215Z
LAST-MODIFIED:20260212T184220Z
UID:10003256-1771439400-1771444800@tuftshillel.org
SUMMARY:Queen Esther: Veiled Subversion
DESCRIPTION:Join us for a Megillah text study and Q&A exploring how Queen Esther strategically navigates Persian patriarchal power structures through silence\, timing\, and subtle influence. Together\, we’ll examine how Esther’s actions challenge traditional ideas of power and leadership while ultimately helping to save her people. No prior knowledge of the story is needed — all are welcome!
URL:https://tuftshillel.org/event/queen-esther-veiled-subversion/
LOCATION:Tufts Hillel Building\, 220 Packard Ave\, Medford\, MA\, 02155
CATEGORIES:Jewish Learning
ATTACH;FMTTYPE=image/png:https://tuftshillel.org/wp-content/uploads/2026/02/Untitled-4.png
END:VEVENT
BEGIN:VEVENT
DTSTART;TZID=America/New_York:20260217T180000
DTEND;TZID=America/New_York:20260217T190000
DTSTAMP:20260423T163741
CREATED:20260213T210257Z
LAST-MODIFIED:20260213T210301Z
UID:10003279-1771351200-1771354800@tuftshillel.org
SUMMARY:Read by the River Paint Party
DESCRIPTION:Read by the River is an annual youth literacy carnival hosted by Tufts Hillel where local kids come and enjoy reading themed activities. \n\n\n\nHelp us prepare for this amazing event by painting decorations! This is a super fun way to destress after a long day and hang out with your friends. All artistic abilities are welcome. This year\, the carnival is circus themed\, so get ready to paint popcorn\, elephants\, balloons and more!
URL:https://tuftshillel.org/event/read-by-the-river-paint-party-2/
LOCATION:Tufts Hillel Building\, 220 Packard Ave\, Medford\, MA\, 02155
CATEGORIES:Be Social,Be Social (Social Program),Social Justice
ATTACH;FMTTYPE=image/png:https://tuftshillel.org/wp-content/uploads/2026/02/2026_2_13_ReadbytheRiverPaintParty-2.png
END:VEVENT
BEGIN:VEVENT
DTSTART;TZID=America/New_York:20260217T163000
DTEND;TZID=America/New_York:20260217T173000
DTSTAMP:20260423T163741
CREATED:20250911T150415Z
LAST-MODIFIED:20260213T202657Z
UID:10002956-1771345800-1771349400@tuftshillel.org
SUMMARY:Texts and Values: A Weekly Jewish Study Circle
DESCRIPTION:Join Rabbi Naftali Brawer for a weekly exploration of Jewish values and ethical teachings embedded in ancient Jewish texts. No prior knowledge is required\, just curiosity and an open mind.
URL:https://tuftshillel.org/event/texts-and-values-a-weekly-jewish-study-circle/2026-02-17/
LOCATION:Tufts Hillel Building\, 220 Packard Ave\, Medford\, MA\, 02155
CATEGORIES:Jewish Learning
ATTACH;FMTTYPE=image/png:https://tuftshillel.org/wp-content/uploads/2025/09/2025_09_16_TextsAndValues_AWeeklyJewishStudyCircle-3.png
END:VEVENT
BEGIN:VEVENT
DTSTART;TZID=America/New_York:20260213T100000
DTEND;TZID=America/New_York:20260213T110000
DTSTAMP:20260423T163741
CREATED:20250902T190648Z
LAST-MODIFIED:20260319T142621Z
UID:10002886-1770976800-1770980400@tuftshillel.org
SUMMARY:Talmud Chaburah
DESCRIPTION:Want to take sharpen your Talmud skills? Join a weekly\, text-based study group where you’ll work through the Hebrew/Aramaic of the Gemara together\, sharpening both reading skills and analytical thinking. Guided by Rabbi Brawer\, this chaburah offers a collaborative space for deep learning and thoughtful discussion. \n\n\n\nPrerequisite: Participants should be comfortable reading Talmud in the original Hebrew/Aramaic.
URL:https://tuftshillel.org/event/talmud-chaburah/2026-02-13/
LOCATION:Tufts Hillel Building\, 220 Packard Ave\, Medford\, MA\, 02155
CATEGORIES:Jewish Learning
ATTACH;FMTTYPE=image/png:https://tuftshillel.org/wp-content/uploads/2025/09/2026_2_13_WeeklyTalmudChaburah-2.png
END:VEVENT
BEGIN:VEVENT
DTSTART;TZID=America/New_York:20260211T200000
DTEND;TZID=America/New_York:20260211T220000
DTSTAMP:20260423T163741
CREATED:20260128T171836Z
LAST-MODIFIED:20260128T171840Z
UID:10003253-1770840000-1770847200@tuftshillel.org
SUMMARY:Schmüsic Night pt.2
DESCRIPTION:Get ready for Schmüsic Night\, Tufts Hillel’s annual night of music and schmoozing. Come hang out\, meet new people\, and enjoy live performances from talented student musicians!
URL:https://tuftshillel.org/event/schmusic-night-pt-2/
LOCATION:Tufts Hillel Building\, 220 Packard Ave\, Medford\, MA\, 02155
CATEGORIES:Be Social (Social Program)
ATTACH;FMTTYPE=image/png:https://tuftshillel.org/wp-content/uploads/2026/01/2026_1_21-Schmusic-Night-2.png
END:VEVENT
BEGIN:VEVENT
DTSTART;TZID=America/New_York:20260210T163000
DTEND;TZID=America/New_York:20260210T173000
DTSTAMP:20260423T163741
CREATED:20250911T150415Z
LAST-MODIFIED:20260213T202657Z
UID:10002955-1770741000-1770744600@tuftshillel.org
SUMMARY:Texts and Values: A Weekly Jewish Study Circle
DESCRIPTION:Join Rabbi Naftali Brawer for a weekly exploration of Jewish values and ethical teachings embedded in ancient Jewish texts. No prior knowledge is required\, just curiosity and an open mind.
URL:https://tuftshillel.org/event/texts-and-values-a-weekly-jewish-study-circle/2026-02-10/
LOCATION:Tufts Hillel Building\, 220 Packard Ave\, Medford\, MA\, 02155
CATEGORIES:Jewish Learning
ATTACH;FMTTYPE=image/png:https://tuftshillel.org/wp-content/uploads/2025/09/2025_09_16_TextsAndValues_AWeeklyJewishStudyCircle-3.png
END:VEVENT
END:VCALENDAR