BEGIN:VCALENDAR
VERSION:2.0
PRODID:-//Tufts Hillel - ECPv6.15.20//NONSGML v1.0//EN
CALSCALE:GREGORIAN
METHOD:PUBLISH
X-ORIGINAL-URL:https://tuftshillel.org
X-WR-CALDESC:Events for Tufts Hillel
REFRESH-INTERVAL;VALUE=DURATION:PT1H
X-Robots-Tag:noindex
X-PUBLISHED-TTL:PT1H
BEGIN:VTIMEZONE
TZID:America/New_York
BEGIN:DAYLIGHT
TZOFFSETFROM:-0500
TZOFFSETTO:-0400
TZNAME:EDT
DTSTART:20250309T070000
END:DAYLIGHT
BEGIN:STANDARD
TZOFFSETFROM:-0400
TZOFFSETTO:-0500
TZNAME:EST
DTSTART:20251102T060000
END:STANDARD
BEGIN:DAYLIGHT
TZOFFSETFROM:-0500
TZOFFSETTO:-0400
TZNAME:EDT
DTSTART:20260308T070000
END:DAYLIGHT
BEGIN:STANDARD
TZOFFSETFROM:-0400
TZOFFSETTO:-0500
TZNAME:EST
DTSTART:20261101T060000
END:STANDARD
BEGIN:DAYLIGHT
TZOFFSETFROM:-0500
TZOFFSETTO:-0400
TZNAME:EDT
DTSTART:20270314T070000
END:DAYLIGHT
BEGIN:STANDARD
TZOFFSETFROM:-0400
TZOFFSETTO:-0500
TZNAME:EST
DTSTART:20271107T060000
END:STANDARD
END:VTIMEZONE
BEGIN:VEVENT
DTSTART;TZID=America/New_York:20260602T163000
DTEND;TZID=America/New_York:20260602T173000
DTSTAMP:20260423T150339
CREATED:20250911T150415Z
LAST-MODIFIED:20260213T202657Z
UID:10002971-1780417800-1780421400@tuftshillel.org
SUMMARY:Texts and Values: A Weekly Jewish Study Circle
DESCRIPTION:Join Rabbi Naftali Brawer for a weekly exploration of Jewish values and ethical teachings embedded in ancient Jewish texts. No prior knowledge is required\, just curiosity and an open mind.
URL:https://tuftshillel.org/event/texts-and-values-a-weekly-jewish-study-circle/2026-06-02/
LOCATION:Tufts Hillel Building\, 220 Packard Ave\, Medford\, MA\, 02155
CATEGORIES:Jewish Learning
ATTACH;FMTTYPE=image/png:https://tuftshillel.org/wp-content/uploads/2025/09/2025_09_16_TextsAndValues_AWeeklyJewishStudyCircle-3.png
END:VEVENT
BEGIN:VEVENT
DTSTART;TZID=America/New_York:20260605T100000
DTEND;TZID=America/New_York:20260605T110000
DTSTAMP:20260423T150339
CREATED:20250902T190648Z
LAST-MODIFIED:20260319T142621Z
UID:10002902-1780653600-1780657200@tuftshillel.org
SUMMARY:Talmud Chaburah
DESCRIPTION:Want to take sharpen your Talmud skills? Join a weekly\, text-based study group where you’ll work through the Hebrew/Aramaic of the Gemara together\, sharpening both reading skills and analytical thinking. Guided by Rabbi Brawer\, this chaburah offers a collaborative space for deep learning and thoughtful discussion. \n\n\n\nPrerequisite: Participants should be comfortable reading Talmud in the original Hebrew/Aramaic.
URL:https://tuftshillel.org/event/talmud-chaburah/2026-06-05/
LOCATION:Tufts Hillel Building\, 220 Packard Ave\, Medford\, MA\, 02155
CATEGORIES:Jewish Learning
ATTACH;FMTTYPE=image/png:https://tuftshillel.org/wp-content/uploads/2025/09/2026_2_13_WeeklyTalmudChaburah-2.png
END:VEVENT
BEGIN:VEVENT
DTSTART;TZID=America/New_York:20260609T163000
DTEND;TZID=America/New_York:20260609T173000
DTSTAMP:20260423T150339
CREATED:20250911T150415Z
LAST-MODIFIED:20260213T202657Z
UID:10002972-1781022600-1781026200@tuftshillel.org
SUMMARY:Texts and Values: A Weekly Jewish Study Circle
DESCRIPTION:Join Rabbi Naftali Brawer for a weekly exploration of Jewish values and ethical teachings embedded in ancient Jewish texts. No prior knowledge is required\, just curiosity and an open mind.
URL:https://tuftshillel.org/event/texts-and-values-a-weekly-jewish-study-circle/2026-06-09/
LOCATION:Tufts Hillel Building\, 220 Packard Ave\, Medford\, MA\, 02155
CATEGORIES:Jewish Learning
ATTACH;FMTTYPE=image/png:https://tuftshillel.org/wp-content/uploads/2025/09/2025_09_16_TextsAndValues_AWeeklyJewishStudyCircle-3.png
END:VEVENT
BEGIN:VEVENT
DTSTART;TZID=America/New_York:20260612T100000
DTEND;TZID=America/New_York:20260612T110000
DTSTAMP:20260423T150340
CREATED:20250902T190648Z
LAST-MODIFIED:20260319T142621Z
UID:10002903-1781258400-1781262000@tuftshillel.org
SUMMARY:Talmud Chaburah
DESCRIPTION:Want to take sharpen your Talmud skills? Join a weekly\, text-based study group where you’ll work through the Hebrew/Aramaic of the Gemara together\, sharpening both reading skills and analytical thinking. Guided by Rabbi Brawer\, this chaburah offers a collaborative space for deep learning and thoughtful discussion. \n\n\n\nPrerequisite: Participants should be comfortable reading Talmud in the original Hebrew/Aramaic.
URL:https://tuftshillel.org/event/talmud-chaburah/2026-06-12/
LOCATION:Tufts Hillel Building\, 220 Packard Ave\, Medford\, MA\, 02155
CATEGORIES:Jewish Learning
ATTACH;FMTTYPE=image/png:https://tuftshillel.org/wp-content/uploads/2025/09/2026_2_13_WeeklyTalmudChaburah-2.png
END:VEVENT
BEGIN:VEVENT
DTSTART;TZID=America/New_York:20260616T163000
DTEND;TZID=America/New_York:20260616T173000
DTSTAMP:20260423T150340
CREATED:20250911T150415Z
LAST-MODIFIED:20260213T202657Z
UID:10002973-1781627400-1781631000@tuftshillel.org
SUMMARY:Texts and Values: A Weekly Jewish Study Circle
DESCRIPTION:Join Rabbi Naftali Brawer for a weekly exploration of Jewish values and ethical teachings embedded in ancient Jewish texts. No prior knowledge is required\, just curiosity and an open mind.
URL:https://tuftshillel.org/event/texts-and-values-a-weekly-jewish-study-circle/2026-06-16/
LOCATION:Tufts Hillel Building\, 220 Packard Ave\, Medford\, MA\, 02155
CATEGORIES:Jewish Learning
ATTACH;FMTTYPE=image/png:https://tuftshillel.org/wp-content/uploads/2025/09/2025_09_16_TextsAndValues_AWeeklyJewishStudyCircle-3.png
END:VEVENT
BEGIN:VEVENT
DTSTART;TZID=America/New_York:20260619T100000
DTEND;TZID=America/New_York:20260619T110000
DTSTAMP:20260423T150340
CREATED:20250902T190648Z
LAST-MODIFIED:20260319T142621Z
UID:10002904-1781863200-1781866800@tuftshillel.org
SUMMARY:Talmud Chaburah
DESCRIPTION:Want to take sharpen your Talmud skills? Join a weekly\, text-based study group where you’ll work through the Hebrew/Aramaic of the Gemara together\, sharpening both reading skills and analytical thinking. Guided by Rabbi Brawer\, this chaburah offers a collaborative space for deep learning and thoughtful discussion. \n\n\n\nPrerequisite: Participants should be comfortable reading Talmud in the original Hebrew/Aramaic.
URL:https://tuftshillel.org/event/talmud-chaburah/2026-06-19/
LOCATION:Tufts Hillel Building\, 220 Packard Ave\, Medford\, MA\, 02155
CATEGORIES:Jewish Learning
ATTACH;FMTTYPE=image/png:https://tuftshillel.org/wp-content/uploads/2025/09/2026_2_13_WeeklyTalmudChaburah-2.png
END:VEVENT
BEGIN:VEVENT
DTSTART;TZID=America/New_York:20260623T163000
DTEND;TZID=America/New_York:20260623T173000
DTSTAMP:20260423T150340
CREATED:20250911T150415Z
LAST-MODIFIED:20260213T202657Z
UID:10002974-1782232200-1782235800@tuftshillel.org
SUMMARY:Texts and Values: A Weekly Jewish Study Circle
DESCRIPTION:Join Rabbi Naftali Brawer for a weekly exploration of Jewish values and ethical teachings embedded in ancient Jewish texts. No prior knowledge is required\, just curiosity and an open mind.
URL:https://tuftshillel.org/event/texts-and-values-a-weekly-jewish-study-circle/2026-06-23/
LOCATION:Tufts Hillel Building\, 220 Packard Ave\, Medford\, MA\, 02155
CATEGORIES:Jewish Learning
ATTACH;FMTTYPE=image/png:https://tuftshillel.org/wp-content/uploads/2025/09/2025_09_16_TextsAndValues_AWeeklyJewishStudyCircle-3.png
END:VEVENT
BEGIN:VEVENT
DTSTART;TZID=America/New_York:20260626T100000
DTEND;TZID=America/New_York:20260626T110000
DTSTAMP:20260423T150340
CREATED:20250902T190648Z
LAST-MODIFIED:20260319T142621Z
UID:10002905-1782468000-1782471600@tuftshillel.org
SUMMARY:Talmud Chaburah
DESCRIPTION:Want to take sharpen your Talmud skills? Join a weekly\, text-based study group where you’ll work through the Hebrew/Aramaic of the Gemara together\, sharpening both reading skills and analytical thinking. Guided by Rabbi Brawer\, this chaburah offers a collaborative space for deep learning and thoughtful discussion. \n\n\n\nPrerequisite: Participants should be comfortable reading Talmud in the original Hebrew/Aramaic.
URL:https://tuftshillel.org/event/talmud-chaburah/2026-06-26/
LOCATION:Tufts Hillel Building\, 220 Packard Ave\, Medford\, MA\, 02155
CATEGORIES:Jewish Learning
ATTACH;FMTTYPE=image/png:https://tuftshillel.org/wp-content/uploads/2025/09/2026_2_13_WeeklyTalmudChaburah-2.png
END:VEVENT
BEGIN:VEVENT
DTSTART;TZID=America/New_York:20260630T163000
DTEND;TZID=America/New_York:20260630T173000
DTSTAMP:20260423T150340
CREATED:20250911T150415Z
LAST-MODIFIED:20260213T202657Z
UID:10002975-1782837000-1782840600@tuftshillel.org
SUMMARY:Texts and Values: A Weekly Jewish Study Circle
DESCRIPTION:Join Rabbi Naftali Brawer for a weekly exploration of Jewish values and ethical teachings embedded in ancient Jewish texts. No prior knowledge is required\, just curiosity and an open mind.
URL:https://tuftshillel.org/event/texts-and-values-a-weekly-jewish-study-circle/2026-06-30/
LOCATION:Tufts Hillel Building\, 220 Packard Ave\, Medford\, MA\, 02155
CATEGORIES:Jewish Learning
ATTACH;FMTTYPE=image/png:https://tuftshillel.org/wp-content/uploads/2025/09/2025_09_16_TextsAndValues_AWeeklyJewishStudyCircle-3.png
END:VEVENT
BEGIN:VEVENT
DTSTART;TZID=America/New_York:20260703T100000
DTEND;TZID=America/New_York:20260703T110000
DTSTAMP:20260423T150340
CREATED:20250902T190648Z
LAST-MODIFIED:20260319T142621Z
UID:10002906-1783072800-1783076400@tuftshillel.org
SUMMARY:Talmud Chaburah
DESCRIPTION:Want to take sharpen your Talmud skills? Join a weekly\, text-based study group where you’ll work through the Hebrew/Aramaic of the Gemara together\, sharpening both reading skills and analytical thinking. Guided by Rabbi Brawer\, this chaburah offers a collaborative space for deep learning and thoughtful discussion. \n\n\n\nPrerequisite: Participants should be comfortable reading Talmud in the original Hebrew/Aramaic.
URL:https://tuftshillel.org/event/talmud-chaburah/2026-07-03/
LOCATION:Tufts Hillel Building\, 220 Packard Ave\, Medford\, MA\, 02155
CATEGORIES:Jewish Learning
ATTACH;FMTTYPE=image/png:https://tuftshillel.org/wp-content/uploads/2025/09/2026_2_13_WeeklyTalmudChaburah-2.png
END:VEVENT
BEGIN:VEVENT
DTSTART;TZID=America/New_York:20260707T163000
DTEND;TZID=America/New_York:20260707T173000
DTSTAMP:20260423T150340
CREATED:20250911T150415Z
LAST-MODIFIED:20260213T202657Z
UID:10002976-1783441800-1783445400@tuftshillel.org
SUMMARY:Texts and Values: A Weekly Jewish Study Circle
DESCRIPTION:Join Rabbi Naftali Brawer for a weekly exploration of Jewish values and ethical teachings embedded in ancient Jewish texts. No prior knowledge is required\, just curiosity and an open mind.
URL:https://tuftshillel.org/event/texts-and-values-a-weekly-jewish-study-circle/2026-07-07/
LOCATION:Tufts Hillel Building\, 220 Packard Ave\, Medford\, MA\, 02155
CATEGORIES:Jewish Learning
ATTACH;FMTTYPE=image/png:https://tuftshillel.org/wp-content/uploads/2025/09/2025_09_16_TextsAndValues_AWeeklyJewishStudyCircle-3.png
END:VEVENT
BEGIN:VEVENT
DTSTART;TZID=America/New_York:20260710T100000
DTEND;TZID=America/New_York:20260710T110000
DTSTAMP:20260423T150340
CREATED:20250902T190648Z
LAST-MODIFIED:20260319T142621Z
UID:10002907-1783677600-1783681200@tuftshillel.org
SUMMARY:Talmud Chaburah
DESCRIPTION:Want to take sharpen your Talmud skills? Join a weekly\, text-based study group where you’ll work through the Hebrew/Aramaic of the Gemara together\, sharpening both reading skills and analytical thinking. Guided by Rabbi Brawer\, this chaburah offers a collaborative space for deep learning and thoughtful discussion. \n\n\n\nPrerequisite: Participants should be comfortable reading Talmud in the original Hebrew/Aramaic.
URL:https://tuftshillel.org/event/talmud-chaburah/2026-07-10/
LOCATION:Tufts Hillel Building\, 220 Packard Ave\, Medford\, MA\, 02155
CATEGORIES:Jewish Learning
ATTACH;FMTTYPE=image/png:https://tuftshillel.org/wp-content/uploads/2025/09/2026_2_13_WeeklyTalmudChaburah-2.png
END:VEVENT
BEGIN:VEVENT
DTSTART;TZID=America/New_York:20260714T163000
DTEND;TZID=America/New_York:20260714T173000
DTSTAMP:20260423T150340
CREATED:20250911T150415Z
LAST-MODIFIED:20260213T202657Z
UID:10002977-1784046600-1784050200@tuftshillel.org
SUMMARY:Texts and Values: A Weekly Jewish Study Circle
DESCRIPTION:Join Rabbi Naftali Brawer for a weekly exploration of Jewish values and ethical teachings embedded in ancient Jewish texts. No prior knowledge is required\, just curiosity and an open mind.
URL:https://tuftshillel.org/event/texts-and-values-a-weekly-jewish-study-circle/2026-07-14/
LOCATION:Tufts Hillel Building\, 220 Packard Ave\, Medford\, MA\, 02155
CATEGORIES:Jewish Learning
ATTACH;FMTTYPE=image/png:https://tuftshillel.org/wp-content/uploads/2025/09/2025_09_16_TextsAndValues_AWeeklyJewishStudyCircle-3.png
END:VEVENT
BEGIN:VEVENT
DTSTART;TZID=America/New_York:20260717T100000
DTEND;TZID=America/New_York:20260717T110000
DTSTAMP:20260423T150340
CREATED:20250902T190648Z
LAST-MODIFIED:20260319T142621Z
UID:10002908-1784282400-1784286000@tuftshillel.org
SUMMARY:Talmud Chaburah
DESCRIPTION:Want to take sharpen your Talmud skills? Join a weekly\, text-based study group where you’ll work through the Hebrew/Aramaic of the Gemara together\, sharpening both reading skills and analytical thinking. Guided by Rabbi Brawer\, this chaburah offers a collaborative space for deep learning and thoughtful discussion. \n\n\n\nPrerequisite: Participants should be comfortable reading Talmud in the original Hebrew/Aramaic.
URL:https://tuftshillel.org/event/talmud-chaburah/2026-07-17/
LOCATION:Tufts Hillel Building\, 220 Packard Ave\, Medford\, MA\, 02155
CATEGORIES:Jewish Learning
ATTACH;FMTTYPE=image/png:https://tuftshillel.org/wp-content/uploads/2025/09/2026_2_13_WeeklyTalmudChaburah-2.png
END:VEVENT
BEGIN:VEVENT
DTSTART;TZID=America/New_York:20260721T163000
DTEND;TZID=America/New_York:20260721T173000
DTSTAMP:20260423T150340
CREATED:20250911T150415Z
LAST-MODIFIED:20260213T202657Z
UID:10002978-1784651400-1784655000@tuftshillel.org
SUMMARY:Texts and Values: A Weekly Jewish Study Circle
DESCRIPTION:Join Rabbi Naftali Brawer for a weekly exploration of Jewish values and ethical teachings embedded in ancient Jewish texts. No prior knowledge is required\, just curiosity and an open mind.
URL:https://tuftshillel.org/event/texts-and-values-a-weekly-jewish-study-circle/2026-07-21/
LOCATION:Tufts Hillel Building\, 220 Packard Ave\, Medford\, MA\, 02155
CATEGORIES:Jewish Learning
ATTACH;FMTTYPE=image/png:https://tuftshillel.org/wp-content/uploads/2025/09/2025_09_16_TextsAndValues_AWeeklyJewishStudyCircle-3.png
END:VEVENT
BEGIN:VEVENT
DTSTART;TZID=America/New_York:20260724T100000
DTEND;TZID=America/New_York:20260724T110000
DTSTAMP:20260423T150340
CREATED:20250902T190648Z
LAST-MODIFIED:20260319T142621Z
UID:10002909-1784887200-1784890800@tuftshillel.org
SUMMARY:Talmud Chaburah
DESCRIPTION:Want to take sharpen your Talmud skills? Join a weekly\, text-based study group where you’ll work through the Hebrew/Aramaic of the Gemara together\, sharpening both reading skills and analytical thinking. Guided by Rabbi Brawer\, this chaburah offers a collaborative space for deep learning and thoughtful discussion. \n\n\n\nPrerequisite: Participants should be comfortable reading Talmud in the original Hebrew/Aramaic.
URL:https://tuftshillel.org/event/talmud-chaburah/2026-07-24/
LOCATION:Tufts Hillel Building\, 220 Packard Ave\, Medford\, MA\, 02155
CATEGORIES:Jewish Learning
ATTACH;FMTTYPE=image/png:https://tuftshillel.org/wp-content/uploads/2025/09/2026_2_13_WeeklyTalmudChaburah-2.png
END:VEVENT
BEGIN:VEVENT
DTSTART;TZID=America/New_York:20260728T163000
DTEND;TZID=America/New_York:20260728T173000
DTSTAMP:20260423T150340
CREATED:20250911T150415Z
LAST-MODIFIED:20260213T202657Z
UID:10002979-1785256200-1785259800@tuftshillel.org
SUMMARY:Texts and Values: A Weekly Jewish Study Circle
DESCRIPTION:Join Rabbi Naftali Brawer for a weekly exploration of Jewish values and ethical teachings embedded in ancient Jewish texts. No prior knowledge is required\, just curiosity and an open mind.
URL:https://tuftshillel.org/event/texts-and-values-a-weekly-jewish-study-circle/2026-07-28/
LOCATION:Tufts Hillel Building\, 220 Packard Ave\, Medford\, MA\, 02155
CATEGORIES:Jewish Learning
ATTACH;FMTTYPE=image/png:https://tuftshillel.org/wp-content/uploads/2025/09/2025_09_16_TextsAndValues_AWeeklyJewishStudyCircle-3.png
END:VEVENT
BEGIN:VEVENT
DTSTART;TZID=America/New_York:20260731T100000
DTEND;TZID=America/New_York:20260731T110000
DTSTAMP:20260423T150340
CREATED:20250902T190648Z
LAST-MODIFIED:20260319T142621Z
UID:10002910-1785492000-1785495600@tuftshillel.org
SUMMARY:Talmud Chaburah
DESCRIPTION:Want to take sharpen your Talmud skills? Join a weekly\, text-based study group where you’ll work through the Hebrew/Aramaic of the Gemara together\, sharpening both reading skills and analytical thinking. Guided by Rabbi Brawer\, this chaburah offers a collaborative space for deep learning and thoughtful discussion. \n\n\n\nPrerequisite: Participants should be comfortable reading Talmud in the original Hebrew/Aramaic.
URL:https://tuftshillel.org/event/talmud-chaburah/2026-07-31/
LOCATION:Tufts Hillel Building\, 220 Packard Ave\, Medford\, MA\, 02155
CATEGORIES:Jewish Learning
ATTACH;FMTTYPE=image/png:https://tuftshillel.org/wp-content/uploads/2025/09/2026_2_13_WeeklyTalmudChaburah-2.png
END:VEVENT
BEGIN:VEVENT
DTSTART;TZID=America/New_York:20260804T163000
DTEND;TZID=America/New_York:20260804T173000
DTSTAMP:20260423T150340
CREATED:20250911T150415Z
LAST-MODIFIED:20260213T202657Z
UID:10002980-1785861000-1785864600@tuftshillel.org
SUMMARY:Texts and Values: A Weekly Jewish Study Circle
DESCRIPTION:Join Rabbi Naftali Brawer for a weekly exploration of Jewish values and ethical teachings embedded in ancient Jewish texts. No prior knowledge is required\, just curiosity and an open mind.
URL:https://tuftshillel.org/event/texts-and-values-a-weekly-jewish-study-circle/2026-08-04/
LOCATION:Tufts Hillel Building\, 220 Packard Ave\, Medford\, MA\, 02155
CATEGORIES:Jewish Learning
ATTACH;FMTTYPE=image/png:https://tuftshillel.org/wp-content/uploads/2025/09/2025_09_16_TextsAndValues_AWeeklyJewishStudyCircle-3.png
END:VEVENT
BEGIN:VEVENT
DTSTART;TZID=America/New_York:20260807T100000
DTEND;TZID=America/New_York:20260807T110000
DTSTAMP:20260423T150340
CREATED:20250902T190648Z
LAST-MODIFIED:20260319T142621Z
UID:10002911-1786096800-1786100400@tuftshillel.org
SUMMARY:Talmud Chaburah
DESCRIPTION:Want to take sharpen your Talmud skills? Join a weekly\, text-based study group where you’ll work through the Hebrew/Aramaic of the Gemara together\, sharpening both reading skills and analytical thinking. Guided by Rabbi Brawer\, this chaburah offers a collaborative space for deep learning and thoughtful discussion. \n\n\n\nPrerequisite: Participants should be comfortable reading Talmud in the original Hebrew/Aramaic.
URL:https://tuftshillel.org/event/talmud-chaburah/2026-08-07/
LOCATION:Tufts Hillel Building\, 220 Packard Ave\, Medford\, MA\, 02155
CATEGORIES:Jewish Learning
ATTACH;FMTTYPE=image/png:https://tuftshillel.org/wp-content/uploads/2025/09/2026_2_13_WeeklyTalmudChaburah-2.png
END:VEVENT
BEGIN:VEVENT
DTSTART;TZID=America/New_York:20260811T163000
DTEND;TZID=America/New_York:20260811T173000
DTSTAMP:20260423T150340
CREATED:20250911T150415Z
LAST-MODIFIED:20260213T202657Z
UID:10002981-1786465800-1786469400@tuftshillel.org
SUMMARY:Texts and Values: A Weekly Jewish Study Circle
DESCRIPTION:Join Rabbi Naftali Brawer for a weekly exploration of Jewish values and ethical teachings embedded in ancient Jewish texts. No prior knowledge is required\, just curiosity and an open mind.
URL:https://tuftshillel.org/event/texts-and-values-a-weekly-jewish-study-circle/2026-08-11/
LOCATION:Tufts Hillel Building\, 220 Packard Ave\, Medford\, MA\, 02155
CATEGORIES:Jewish Learning
ATTACH;FMTTYPE=image/png:https://tuftshillel.org/wp-content/uploads/2025/09/2025_09_16_TextsAndValues_AWeeklyJewishStudyCircle-3.png
END:VEVENT
BEGIN:VEVENT
DTSTART;TZID=America/New_York:20260814T100000
DTEND;TZID=America/New_York:20260814T110000
DTSTAMP:20260423T150340
CREATED:20250902T190648Z
LAST-MODIFIED:20260319T142621Z
UID:10002912-1786701600-1786705200@tuftshillel.org
SUMMARY:Talmud Chaburah
DESCRIPTION:Want to take sharpen your Talmud skills? Join a weekly\, text-based study group where you’ll work through the Hebrew/Aramaic of the Gemara together\, sharpening both reading skills and analytical thinking. Guided by Rabbi Brawer\, this chaburah offers a collaborative space for deep learning and thoughtful discussion. \n\n\n\nPrerequisite: Participants should be comfortable reading Talmud in the original Hebrew/Aramaic.
URL:https://tuftshillel.org/event/talmud-chaburah/2026-08-14/
LOCATION:Tufts Hillel Building\, 220 Packard Ave\, Medford\, MA\, 02155
CATEGORIES:Jewish Learning
ATTACH;FMTTYPE=image/png:https://tuftshillel.org/wp-content/uploads/2025/09/2026_2_13_WeeklyTalmudChaburah-2.png
END:VEVENT
BEGIN:VEVENT
DTSTART;TZID=America/New_York:20260818T163000
DTEND;TZID=America/New_York:20260818T173000
DTSTAMP:20260423T150340
CREATED:20250911T150415Z
LAST-MODIFIED:20260213T202657Z
UID:10002982-1787070600-1787074200@tuftshillel.org
SUMMARY:Texts and Values: A Weekly Jewish Study Circle
DESCRIPTION:Join Rabbi Naftali Brawer for a weekly exploration of Jewish values and ethical teachings embedded in ancient Jewish texts. No prior knowledge is required\, just curiosity and an open mind.
URL:https://tuftshillel.org/event/texts-and-values-a-weekly-jewish-study-circle/2026-08-18/
LOCATION:Tufts Hillel Building\, 220 Packard Ave\, Medford\, MA\, 02155
CATEGORIES:Jewish Learning
ATTACH;FMTTYPE=image/png:https://tuftshillel.org/wp-content/uploads/2025/09/2025_09_16_TextsAndValues_AWeeklyJewishStudyCircle-3.png
END:VEVENT
BEGIN:VEVENT
DTSTART;TZID=America/New_York:20260821T100000
DTEND;TZID=America/New_York:20260821T110000
DTSTAMP:20260423T150340
CREATED:20250902T190648Z
LAST-MODIFIED:20260319T142621Z
UID:10002913-1787306400-1787310000@tuftshillel.org
SUMMARY:Talmud Chaburah
DESCRIPTION:Want to take sharpen your Talmud skills? Join a weekly\, text-based study group where you’ll work through the Hebrew/Aramaic of the Gemara together\, sharpening both reading skills and analytical thinking. Guided by Rabbi Brawer\, this chaburah offers a collaborative space for deep learning and thoughtful discussion. \n\n\n\nPrerequisite: Participants should be comfortable reading Talmud in the original Hebrew/Aramaic.
URL:https://tuftshillel.org/event/talmud-chaburah/2026-08-21/
LOCATION:Tufts Hillel Building\, 220 Packard Ave\, Medford\, MA\, 02155
CATEGORIES:Jewish Learning
ATTACH;FMTTYPE=image/png:https://tuftshillel.org/wp-content/uploads/2025/09/2026_2_13_WeeklyTalmudChaburah-2.png
END:VEVENT
BEGIN:VEVENT
DTSTART;TZID=America/New_York:20260825T163000
DTEND;TZID=America/New_York:20260825T173000
DTSTAMP:20260423T150340
CREATED:20250911T150415Z
LAST-MODIFIED:20260213T202657Z
UID:10002983-1787675400-1787679000@tuftshillel.org
SUMMARY:Texts and Values: A Weekly Jewish Study Circle
DESCRIPTION:Join Rabbi Naftali Brawer for a weekly exploration of Jewish values and ethical teachings embedded in ancient Jewish texts. No prior knowledge is required\, just curiosity and an open mind.
URL:https://tuftshillel.org/event/texts-and-values-a-weekly-jewish-study-circle/2026-08-25/
LOCATION:Tufts Hillel Building\, 220 Packard Ave\, Medford\, MA\, 02155
CATEGORIES:Jewish Learning
ATTACH;FMTTYPE=image/png:https://tuftshillel.org/wp-content/uploads/2025/09/2025_09_16_TextsAndValues_AWeeklyJewishStudyCircle-3.png
END:VEVENT
BEGIN:VEVENT
DTSTART;TZID=America/New_York:20260828T100000
DTEND;TZID=America/New_York:20260828T110000
DTSTAMP:20260423T150340
CREATED:20250902T190648Z
LAST-MODIFIED:20260319T142621Z
UID:10002914-1787911200-1787914800@tuftshillel.org
SUMMARY:Talmud Chaburah
DESCRIPTION:Want to take sharpen your Talmud skills? Join a weekly\, text-based study group where you’ll work through the Hebrew/Aramaic of the Gemara together\, sharpening both reading skills and analytical thinking. Guided by Rabbi Brawer\, this chaburah offers a collaborative space for deep learning and thoughtful discussion. \n\n\n\nPrerequisite: Participants should be comfortable reading Talmud in the original Hebrew/Aramaic.
URL:https://tuftshillel.org/event/talmud-chaburah/2026-08-28/
LOCATION:Tufts Hillel Building\, 220 Packard Ave\, Medford\, MA\, 02155
CATEGORIES:Jewish Learning
ATTACH;FMTTYPE=image/png:https://tuftshillel.org/wp-content/uploads/2025/09/2026_2_13_WeeklyTalmudChaburah-2.png
END:VEVENT
BEGIN:VEVENT
DTSTART;TZID=America/New_York:20260901T163000
DTEND;TZID=America/New_York:20260901T173000
DTSTAMP:20260423T150340
CREATED:20250911T150415Z
LAST-MODIFIED:20260213T202657Z
UID:10002984-1788280200-1788283800@tuftshillel.org
SUMMARY:Texts and Values: A Weekly Jewish Study Circle
DESCRIPTION:Join Rabbi Naftali Brawer for a weekly exploration of Jewish values and ethical teachings embedded in ancient Jewish texts. No prior knowledge is required\, just curiosity and an open mind.
URL:https://tuftshillel.org/event/texts-and-values-a-weekly-jewish-study-circle/2026-09-01/
LOCATION:Tufts Hillel Building\, 220 Packard Ave\, Medford\, MA\, 02155
CATEGORIES:Jewish Learning
ATTACH;FMTTYPE=image/png:https://tuftshillel.org/wp-content/uploads/2025/09/2025_09_16_TextsAndValues_AWeeklyJewishStudyCircle-3.png
END:VEVENT
BEGIN:VEVENT
DTSTART;TZID=America/New_York:20260904T100000
DTEND;TZID=America/New_York:20260904T110000
DTSTAMP:20260423T150340
CREATED:20250902T190648Z
LAST-MODIFIED:20260319T142621Z
UID:10002915-1788516000-1788519600@tuftshillel.org
SUMMARY:Talmud Chaburah
DESCRIPTION:Want to take sharpen your Talmud skills? Join a weekly\, text-based study group where you’ll work through the Hebrew/Aramaic of the Gemara together\, sharpening both reading skills and analytical thinking. Guided by Rabbi Brawer\, this chaburah offers a collaborative space for deep learning and thoughtful discussion. \n\n\n\nPrerequisite: Participants should be comfortable reading Talmud in the original Hebrew/Aramaic.
URL:https://tuftshillel.org/event/talmud-chaburah/2026-09-04/
LOCATION:Tufts Hillel Building\, 220 Packard Ave\, Medford\, MA\, 02155
CATEGORIES:Jewish Learning
ATTACH;FMTTYPE=image/png:https://tuftshillel.org/wp-content/uploads/2025/09/2026_2_13_WeeklyTalmudChaburah-2.png
END:VEVENT
BEGIN:VEVENT
DTSTART;TZID=America/New_York:20260908T163000
DTEND;TZID=America/New_York:20260908T173000
DTSTAMP:20260423T150340
CREATED:20250911T150415Z
LAST-MODIFIED:20260213T202657Z
UID:10002985-1788885000-1788888600@tuftshillel.org
SUMMARY:Texts and Values: A Weekly Jewish Study Circle
DESCRIPTION:Join Rabbi Naftali Brawer for a weekly exploration of Jewish values and ethical teachings embedded in ancient Jewish texts. No prior knowledge is required\, just curiosity and an open mind.
URL:https://tuftshillel.org/event/texts-and-values-a-weekly-jewish-study-circle/2026-09-08/
LOCATION:Tufts Hillel Building\, 220 Packard Ave\, Medford\, MA\, 02155
CATEGORIES:Jewish Learning
ATTACH;FMTTYPE=image/png:https://tuftshillel.org/wp-content/uploads/2025/09/2025_09_16_TextsAndValues_AWeeklyJewishStudyCircle-3.png
END:VEVENT
BEGIN:VEVENT
DTSTART;TZID=America/New_York:20260911T100000
DTEND;TZID=America/New_York:20260911T110000
DTSTAMP:20260423T150340
CREATED:20250902T190648Z
LAST-MODIFIED:20260319T142621Z
UID:10002916-1789120800-1789124400@tuftshillel.org
SUMMARY:Talmud Chaburah
DESCRIPTION:Want to take sharpen your Talmud skills? Join a weekly\, text-based study group where you’ll work through the Hebrew/Aramaic of the Gemara together\, sharpening both reading skills and analytical thinking. Guided by Rabbi Brawer\, this chaburah offers a collaborative space for deep learning and thoughtful discussion. \n\n\n\nPrerequisite: Participants should be comfortable reading Talmud in the original Hebrew/Aramaic.
URL:https://tuftshillel.org/event/talmud-chaburah/2026-09-11/
LOCATION:Tufts Hillel Building\, 220 Packard Ave\, Medford\, MA\, 02155
CATEGORIES:Jewish Learning
ATTACH;FMTTYPE=image/png:https://tuftshillel.org/wp-content/uploads/2025/09/2026_2_13_WeeklyTalmudChaburah-2.png
END:VEVENT
END:VCALENDAR